BEGIN:VCALENDAR
VERSION:2.0
PRODID:-//ChamberMaster//Event Calendar 2.0//EN
METHOD:PUBLISH
X-PUBLISHED-TTL:P3D
REFRESH-INTERVAL:P3D
CALSCALE:GREGORIAN
BEGIN:VEVENT
DTSTART:20070823T160000Z
DTEND:20070823T180000Z
X-MICROSOFT-CDO-ALLDAYEVENT:FALSE
SUMMARY:2007 AUGUST CANCELLED @ Destino
DESCRIPTION:DESTINO\n115 N Loop 1604 E\, Suite 2107\, 78232\nLa Arcata Shopping Center\nThursday August 23\, 2007\nRIBBON CUTTING @ 11:00 a.m.\nCONTACT: Brian Fratus @ 496-6300\nCHAMBER CONTACT: Chuck Koonse @ 384-7722\nDIRECTIONS: \nFrom 281 N - Exit 1604 go west on 1604 frontage. La Arcata Shopping Center is about one mile on the right just past COSTCO and Sigma Road. \n\nDriving West on 1604 - Exit Voight /Stone Oak Pkwy and continue west on Frontage Road. La Arcata Shopping Center is about one mile on the right just past COSTCO and Sigma Road\n\nDriving East on 1604 - Exit Stone Oak Pkwy and take a left onto Stone Oak Pkwy. Take the right turn on to Tuscany Stone and follow it around to the Shopping Center on the right just before the 1604 frontage road. \n\nLUNCH WILL BE SERVED 11:00 a.m. to 1:00 p.m.
X-ALT-DESC;FMTTYPE=text/html:DESTINO\n115 N Loop 1604 E\, Suite 2107\, 78232\nLa Arcata Shopping Center\nThursday August 23\, 2007\nRIBBON CUTTING @ 11:00 a.m.\nCONTACT: Brian Fratus @ 496-6300\nCHAMBER CONTACT: Chuck Koonse @ 384-7722\nDIRECTIONS: \nFrom 281 N - Exit 1604 go west on 1604 frontage. La Arcata Shopping Center is about one mile on the right just past COSTCO and Sigma Road. \n\nDriving West on 1604 - Exit Voight /Stone Oak Pkwy and continue west on Frontage Road. La Arcata Shopping Center is about one mile on the right just past COSTCO and Sigma Road\n\nDriving East on 1604 - Exit Stone Oak Pkwy and take a left onto Stone Oak Pkwy. Take the right turn on to Tuscany Stone and follow it around to the Shopping Center on the right just before the 1604 frontage road. \n\nLUNCH WILL BE SERVED 11:00 a.m. to 1:00 p.m.\n\n
LOCATION:Destino
UID:e.2020.391
SEQUENCE:3
DTSTAMP:20260426T032930Z
URL:https://cm-dev.metrosa.com/events/details/2007-august-cancelled-destino-08-23-2007-391
END:VEVENT

END:VCALENDAR
