BEGIN:VCALENDAR
VERSION:2.0
PRODID:-//ChamberMaster//Event Calendar 2.0//EN
METHOD:PUBLISH
X-PUBLISHED-TTL:P3D
REFRESH-INTERVAL:P3D
CALSCALE:GREGORIAN
BEGIN:VEVENT
DTSTART:20070823T121500Z
DTEND:20070823T140000Z
X-MICROSOFT-CDO-ALLDAYEVENT:FALSE
SUMMARY:2007 August CIO Breakfast
DESCRIPTION:If you are currently not subscribed to CIO meeting info\, please contact Debby Zucker before registering. \n Thank youKathy Yates\, Assistant General Counsel at CPS Energy\, will present on contractual IT concerns.  She will be discussing common pitfalls and the due diligence steps you need to be taking when dealing with IT issues\, including software licensing and intellectual property ownership issues.
X-ALT-DESC;FMTTYPE=text/html:<P class=MsoNormal><FONT face="Times New Roman" color=#ff0000 size=3><SPAN style="FONT-SIZE: 12pt"><EM>If you are currently not subscribed to CIO meeting info\, please contact Debby Zucker before registering.&nbsp\;<BR></EM></SPAN></FONT><FONT face="Times New Roman" color=#ff0000 size=3><SPAN style="FONT-SIZE: 12pt"><EM>&nbsp\;Thank you</EM></SPAN></FONT></P><DIV dir=ltr align=left><SPAN class=813382413-06082007><FONT face="Arial Narrow" color=#0000ff>Kathy Yates\, Assistant General Counsel at CPS Energy\,&nbsp\;will present on contractual IT concerns.&nbsp\; She will be discussing&nbsp\;common pitfalls and the due diligence steps you need to be taking when dealing with IT issues\, including software licensing and&nbsp\;intellectual property&nbsp\;ownership issues.</FONT></SPAN></DIV>
LOCATION:The Petroleum Club
UID:e.2020.394
SEQUENCE:3
DTSTAMP:20260426T032813Z
URL:https://cm-dev.metrosa.com/events/details/2007-august-cio-breakfast-08-23-2007-394
END:VEVENT

END:VCALENDAR
