BEGIN:VCALENDAR
VERSION:2.0
PRODID:-//ChamberMaster//Event Calendar 2.0//EN
METHOD:PUBLISH
X-PUBLISHED-TTL:P3D
REFRESH-INTERVAL:P3D
CALSCALE:GREGORIAN
BEGIN:VEVENT
DTSTART:20070823T220000Z
DTEND:20070824T000000Z
X-MICROSOFT-CDO-ALLDAYEVENT:FALSE
SUMMARY:2007 AUGUST GRAND OPENING @ Ball & Weed\, PC
DESCRIPTION:BALL & WEED\, PC\n10001 Reunion Place Blvd.\, Suite 600\, 78216\nThursday August 23\, 2007\nRIBBON CUTTING @ 4:30 p.m. and Open House Event @ 5:00 p.m.\nCONTACT: Robert D. Kilgore @ 731-6300	\nCHAMBER CONTACT: Chuck Koonse @ 384-7722\nDIRECTIONS: Map to Ball & Weed\, PC can be obtained at their website www.ballandweed.com by clicking on the "Contact Us" link\, San Antonio Office.
X-ALT-DESC;FMTTYPE=text/html:BALL & WEED\, PC\n10001 Reunion Place Blvd.\, Suite 600\, 78216\nThursday August 23\, 2007\nRIBBON CUTTING @ 4:30 p.m. and Open House Event @ 5:00 p.m.\nCONTACT: Robert D. Kilgore @ 731-6300	\nCHAMBER CONTACT: Chuck Koonse @ 384-7722\nDIRECTIONS: Map to Ball & Weed\, PC can be obtained at their website www.ballandweed.com by clicking on the "Contact Us" link\, San Antonio Office.
LOCATION:Ball & Weed\, PC
UID:e.2020.392
SEQUENCE:3
DTSTAMP:20260426T033038Z
URL:https://cm-dev.metrosa.com/events/details/2007-august-grand-opening-ball-weed-pc-08-23-2007-392
END:VEVENT

END:VCALENDAR
