BEGIN:VCALENDAR
VERSION:2.0
PRODID:-//ChamberMaster//Event Calendar 2.0//EN
METHOD:PUBLISH
X-PUBLISHED-TTL:P3D
REFRESH-INTERVAL:P3D
CALSCALE:GREGORIAN
BEGIN:VEVENT
DTSTART:20070815T223000Z
DTEND:20070816T003000Z
X-MICROSOFT-CDO-ALLDAYEVENT:FALSE
SUMMARY:2007 AUGUST GRAND OPENING @ EMBROIDME
DESCRIPTION:EMBROIDME\n1203 N Loop 1604 West\, Suite 107\, 78258\nVineyard Shopping Center @ 1604/Blanco\nWednesday\, August 15\, 2007\nRIBBON CUTTING @ 5:30 p.m.\nCONTACT: Danny Saenz @ 479-6800\nCHAMBER CONTACT: Chuck Koonse @ 384-7722\nDIRECTIONS: Located on the NW corner of Blanco and Loop 1604. Traveling west on Loop 1604 exit at Blanco. Pass Blanco road and enter the first driveway to the right into the Vineyard Shopping Center. Shop is located in the same building as the Aldino Restaurant. \nREFRESHMENTS WILL BE SERVED.
X-ALT-DESC;FMTTYPE=text/html:EMBROIDME\n1203 N Loop 1604 West\, Suite 107\, 78258\nVineyard Shopping Center @ 1604/Blanco\nWednesday\, August 15\, 2007\nRIBBON CUTTING @ 5:30 p.m.\nCONTACT: Danny Saenz @ 479-6800\nCHAMBER CONTACT: Chuck Koonse @ 384-7722\nDIRECTIONS: Located on the NW corner of Blanco and Loop 1604. Traveling west on Loop 1604 exit at Blanco. Pass Blanco road and enter the first driveway to the right into the Vineyard Shopping Center. Shop is located in the same building as the Aldino Restaurant. \nREFRESHMENTS WILL BE SERVED.
LOCATION:EmbroidMe
UID:e.2020.395
SEQUENCE:3
DTSTAMP:20260426T032930Z
URL:https://cm-dev.metrosa.com/events/details/2007-august-grand-opening-embroidme-08-15-2007-395
END:VEVENT

END:VCALENDAR
