BEGIN:VCALENDAR
VERSION:2.0
PRODID:-//ChamberMaster//Event Calendar 2.0//EN
METHOD:PUBLISH
X-PUBLISHED-TTL:P3D
REFRESH-INTERVAL:P3D
CALSCALE:GREGORIAN
BEGIN:VEVENT
DTSTART:20070803T150000Z
DTEND:20070803T170000Z
X-MICROSOFT-CDO-ALLDAYEVENT:FALSE
SUMMARY:2007 AUGUST GRAND OPENING @ Lynda Fisher's Hair Studio
DESCRIPTION:LYNDA FISHERS HAIR STUDIO  Friday August 3\, 2007  The Legacy Shopping Center  18402 US Hwy 281 North\, Suite 110  RIBBON CUTTING @ 10 a.m. CONTACT: Corey Larson @ 402-0037  CHAMBER CONTACT: Chuck Koonse @ 384-7722  DIRECTIONS: 281 N past the Loop 1604 in the Legacy Shopping Center. Enter at main entrance past the SACU building(2nd turn). You will see the Legacy Center sign at the entrance. The Hair Studio is located across the street from the Gourmet Burger Grill and 3 doors down from the McAlister's Deli on the right.
X-ALT-DESC;FMTTYPE=text/html:LYNDA FISHERS HAIR STUDIO  Friday August 3\, 2007  The Legacy Shopping Center  18402 US Hwy 281 North\, Suite 110  RIBBON CUTTING @ 10 a.m. CONTACT: Corey Larson @ 402-0037  CHAMBER CONTACT: Chuck Koonse @ 384-7722  DIRECTIONS: 281 N past the Loop 1604 in the Legacy Shopping Center. Enter at main entrance past the SACU building(2nd turn). You will see the Legacy Center sign at the entrance. The Hair Studio is located across the street from the Gourmet Burger Grill and 3 doors down from the McAlister's Deli on the right.
LOCATION:Lynda Fisher's Hair Studio
UID:e.2020.385
SEQUENCE:3
DTSTAMP:20260426T033238Z
URL:https://cm-dev.metrosa.com/events/details/2007-august-grand-opening-lynda-fisher-s-hair-studio-08-03-2007-385
END:VEVENT

END:VCALENDAR
