BEGIN:VCALENDAR
VERSION:2.0
PRODID:-//ChamberMaster//Event Calendar 2.0//EN
METHOD:PUBLISH
X-PUBLISHED-TTL:P3D
REFRESH-INTERVAL:P3D
CALSCALE:GREGORIAN
BEGIN:VEVENT
DTSTART:20070801T200000Z
DTEND:20070801T220000Z
X-MICROSOFT-CDO-ALLDAYEVENT:FALSE
SUMMARY:2007 AUGUST GRAND OPENING @ MEDTEK Group
DESCRIPTION:MEDTEK GROUP\n830 NE Loop 410\, Suite 512\, 78209\nWednesday\, August 1\, 2007\nRIBBON CUTTING @ 3:00 p.m. - by the fountain in the Atrium on the ground floor. \nCONTACT: Michael Miller @ 805-9999 ext 201\nCHAMBER CONTACT: Chuck Koonse @ 384-7722\nDIRECTIONS: Broadway & 410 inside loop. Green Building at North Crown Street. Next to Martha's Mexican Restaurant and the Wells Fargo Building. \nRefreshments will be served.
X-ALT-DESC;FMTTYPE=text/html:MEDTEK GROUP\n830 NE Loop 410\, Suite 512\, 78209\nWednesday\, August 1\, 2007\nRIBBON CUTTING @ 3:00 p.m. - by the fountain in the Atrium on the ground floor. \nCONTACT: Michael Miller @ 805-9999 ext 201\nCHAMBER CONTACT: Chuck Koonse @ 384-7722\nDIRECTIONS: Broadway & 410 inside loop. Green Building at North Crown Street. Next to Martha's Mexican Restaurant and the Wells Fargo Building. \nRefreshments will be served.
LOCATION:MEDTEK Group
UID:e.2020.386
SEQUENCE:3
DTSTAMP:20260426T032331Z
URL:https://cm-dev.metrosa.com/events/details/2007-august-grand-opening-medtek-group-08-01-2007-386
END:VEVENT

END:VCALENDAR
