BEGIN:VCALENDAR
VERSION:2.0
PRODID:-//ChamberMaster//Event Calendar 2.0//EN
METHOD:PUBLISH
X-PUBLISHED-TTL:P3D
REFRESH-INTERVAL:P3D
CALSCALE:GREGORIAN
BEGIN:VEVENT
DTSTART:20071213T150000Z
DTEND:20071213T170000Z
X-MICROSOFT-CDO-ALLDAYEVENT:FALSE
SUMMARY:2007 DEC GRAND OPENING @ Flour Power Cafe & Bakery
DESCRIPTION:FLOUR POWER CAFÉ & BAKERY	\n11703 Huebner Suite 200\, 78230\nHuebner Commons Shopping Ctr\nThursday\, December 13\, 2007\nRIBBON CUTTING @ 9:00 a.m.\nCONTACT: Cindy Olivarez @ 694-9288\nCHAMBER CONTACT: Samantha Collins @ 384-7726\nDIRECTIONS: IH-10 West to Huebner Road Exit - turn right on huebner road. Flour Power Café is in the Huebner Commons Shopping Ctr on the left at Huebner and Vance Jackson. \nThey will serve fruit tray\, kolaches and possibly tamales made from the café.
X-ALT-DESC;FMTTYPE=text/html:FLOUR POWER CAFÉ & BAKERY	\n11703 Huebner Suite 200\, 78230\nHuebner Commons Shopping Ctr\nThursday\, December 13\, 2007\nRIBBON CUTTING @ 9:00 a.m.\nCONTACT: Cindy Olivarez @ 694-9288\nCHAMBER CONTACT: Samantha Collins @ 384-7726\nDIRECTIONS: IH-10 West to Huebner Road Exit - turn right on huebner road. Flour Power Café is in the Huebner Commons Shopping Ctr on the left at Huebner and Vance Jackson. \nThey will serve fruit tray\, kolaches and possibly tamales made from the café.
LOCATION:Flour Power Cafe & Bakery
UID:e.2020.451
SEQUENCE:3
DTSTAMP:20260425T225108Z
URL:https://cm-dev.metrosa.com/events/details/2007-dec-grand-opening-flour-power-cafe-bakery-12-13-2007-451
END:VEVENT

END:VCALENDAR
