BEGIN:VCALENDAR
VERSION:2.0
PRODID:-//ChamberMaster//Event Calendar 2.0//EN
METHOD:PUBLISH
X-PUBLISHED-TTL:P3D
REFRESH-INTERVAL:P3D
CALSCALE:GREGORIAN
BEGIN:VEVENT
DTSTART:20071214T220000Z
DTEND:20071215T000000Z
X-MICROSOFT-CDO-ALLDAYEVENT:FALSE
SUMMARY:2007 DEC GRAND OPENING @ Huntington Learning Center
DESCRIPTION:HUNTINGTON LEARNING CENTER\n11851 Bandera Road\, Suite 109\, Helotes\, 78023\nSilverado Station Shopping Center\nFriday December 14\, 2007\nRIBBON CUTTING @ 4:00 pm and the Open House 4 - 6 pm\nCONTACT: Lisa Siegal @ 695-1771or 433-1941\nDIRECTIONS: www.huntingtonlearning.com   When the homepage opens click on "Contact Us" click on "Contact a Center Near You" then enter the zip code 78023. Click on the MAP.
X-ALT-DESC;FMTTYPE=text/html:HUNTINGTON LEARNING CENTER\n11851 Bandera Road\, Suite 109\, Helotes\, 78023\nSilverado Station Shopping Center\nFriday December 14\, 2007\nRIBBON CUTTING @ 4:00 pm and the Open House 4 - 6 pm\nCONTACT: Lisa Siegal @ 695-1771or 433-1941\nDIRECTIONS: www.huntingtonlearning.com   When the homepage opens click on "Contact Us" click on "Contact a Center Near You" then enter the zip code 78023. Click on the MAP.
LOCATION:Huntington Learning Center
UID:e.2020.449
SEQUENCE:3
DTSTAMP:20260425T225109Z
URL:https://cm-dev.metrosa.com/events/details/2007-dec-grand-opening-huntington-learning-center-12-14-2007-449
END:VEVENT

END:VCALENDAR
