BEGIN:VCALENDAR
VERSION:2.0
PRODID:-//ChamberMaster//Event Calendar 2.0//EN
METHOD:PUBLISH
X-PUBLISHED-TTL:P3D
REFRESH-INTERVAL:P3D
CALSCALE:GREGORIAN
BEGIN:VEVENT
DTSTART:20071214T173000Z
DTEND:20071214T193000Z
X-MICROSOFT-CDO-ALLDAYEVENT:FALSE
SUMMARY:2007 DEC GRAND OPENING @ Morningside Ministries at Menger Sp
DESCRIPTION:
X-ALT-DESC;FMTTYPE=text/html:
LOCATION:Morningside Ministries at Menger Springs
UID:e.2020.447
SEQUENCE:3
DTSTAMP:20260425T225256Z
URL:https://cm-dev.metrosa.com/events/details/2007-dec-grand-opening-morningside-ministries-at-menger-sp-12-14-2007-447
END:VEVENT

END:VCALENDAR
