BEGIN:VCALENDAR
VERSION:2.0
PRODID:-//ChamberMaster//Event Calendar 2.0//EN
METHOD:PUBLISH
X-PUBLISHED-TTL:P3D
REFRESH-INTERVAL:P3D
CALSCALE:GREGORIAN
BEGIN:VEVENT
DTSTART:20071215T133000Z
DTEND:20071215T180000Z
X-MICROSOFT-CDO-ALLDAYEVENT:FALSE
SUMMARY:2007 DEC GRAND RE-OPENING @ CHILI'S Restaurant
DESCRIPTION:CHILI'S\n17750 US 281 North\nSaturday\, December 15\, 2007\nRIBBON CUTTING @ 10:00 a.m.\nCONTACT: Ginger Bates\, GM @ 490-5053\nCHAMBER CONTACT: Chuck Koonse @ 384-7722\nDIRECTIONS: 281 North exit Henderson Pass. Stay on access road - go up to Henderson Pass and you will see the restaurant on the right.\nCHILI'S will have a lot of fun stuff for their guests that day (moon bounce for the kids/face painting/balloon artist). \n\nHere is the agenda for the day: \n7:30-7:45-Breakfast \n7:45-8:00-GM Speech/Area Director Speech \n8:00-8:05-Chili's Brand Video \n8:05-8:20-Airplane Activity \n8:20-8:40-Show FISH video \n8:40-8:50-Review \n8:50-9:30-Commitments Activity \n9:30-9:45-Special Staff Recognition \n9:45-10:00-Closing Remarks \n10:00 Ribbon Cutting Ceremony
X-ALT-DESC;FMTTYPE=text/html:CHILI'S\n17750 US 281 North\nSaturday\, December 15\, 2007\nRIBBON CUTTING @ 10:00 a.m.\nCONTACT: Ginger Bates\, GM @ 490-5053\nCHAMBER CONTACT: Chuck Koonse @ 384-7722\nDIRECTIONS: 281 North exit Henderson Pass. Stay on access road - go up to Henderson Pass and you will see the restaurant on the right.\nCHILI'S will have a lot of fun stuff for their guests that day (moon bounce for the kids/face painting/balloon artist). \n\nHere is the agenda for the day: \n7:30-7:45-Breakfast \n7:45-8:00-GM Speech/Area Director Speech \n8:00-8:05-Chili's Brand Video \n8:05-8:20-Airplane Activity \n8:20-8:40-Show FISH video \n8:40-8:50-Review \n8:50-9:30-Commitments Activity \n9:30-9:45-Special Staff Recognition \n9:45-10:00-Closing Remarks \n10:00 Ribbon Cutting Ceremony\n
LOCATION:Chili's Restaurant
UID:e.2020.452
SEQUENCE:3
DTSTAMP:20260425T225127Z
URL:https://cm-dev.metrosa.com/events/details/2007-dec-grand-re-opening-chili-s-restaurant-12-15-2007-452
END:VEVENT

END:VCALENDAR
