BEGIN:VCALENDAR
VERSION:2.0
PRODID:-//ChamberMaster//Event Calendar 2.0//EN
METHOD:PUBLISH
X-PUBLISHED-TTL:P3D
REFRESH-INTERVAL:P3D
CALSCALE:GREGORIAN
BEGIN:VEVENT
DTSTART:20071213T173000Z
DTEND:20071213T190000Z
X-MICROSOFT-CDO-ALLDAYEVENT:FALSE
SUMMARY:2007 December Ambassador's Awards Luncheon
DESCRIPTION:BUFFET STYLE: Assorted salad greens with condiments & dressings. Fresh fruit and berries\, tomato & mozzarella salad. Stuffed breast of Chicken with Spinach\, Proscuitto and Brandied Apricots\, Chardonnay Buerre Blanc seared Porkloin with Tomato-Ginger Chutney Port Balsamic Vinaigrette Oven roasted new potatoes and roasted vegetables. Assorted baked rolls & cornbread muffins. \nDessert Station to include assorted cakes\, pies and mousse and\nIced tea\, water and coffee.
X-ALT-DESC;FMTTYPE=text/html:BUFFET STYLE: Assorted salad greens with condiments & dressings. Fresh fruit and berries\, tomato & mozzarella salad. Stuffed breast of Chicken with Spinach\, Proscuitto and Brandied Apricots\, Chardonnay Buerre Blanc seared Porkloin with Tomato-Ginger Chutney Port Balsamic Vinaigrette Oven roasted new potatoes and roasted vegetables. Assorted baked rolls & cornbread muffins. \nDessert Station to include assorted cakes\, pies and mousse and\nIced tea\, water and coffee. \n
LOCATION:Fair Oaks Ranch Golf & Country Club
UID:e.2020.383
SEQUENCE:3
DTSTAMP:20260425T225129Z
URL:https://cm-dev.metrosa.com/events/details/2007-december-ambassador-s-awards-luncheon-12-13-2007-383
END:VEVENT

END:VCALENDAR
