BEGIN:VCALENDAR
VERSION:2.0
PRODID:-//ChamberMaster//Event Calendar 2.0//EN
METHOD:PUBLISH
X-PUBLISHED-TTL:P3D
REFRESH-INTERVAL:P3D
CALSCALE:GREGORIAN
BEGIN:VEVENT
DTSTART:20071213T060000Z
DTEND:20071213T060000Z
X-MICROSOFT-CDO-ALLDAYEVENT:FALSE
SUMMARY:2007 December Chairman's Council Breakfast
DESCRIPTION:2007 December Chairman's Council Breakfast
X-ALT-DESC;FMTTYPE=text/html:2007 December Chairman's Council Breakfast
LOCATION:The Petroleum Club
UID:e.2020.1977
SEQUENCE:3
DTSTAMP:20260425T225128Z
URL:https://cm-dev.metrosa.com/events/details/2007-december-chairman-s-council-breakfast-12-13-2007-1977
END:VEVENT

END:VCALENDAR
