BEGIN:VCALENDAR
VERSION:2.0
PRODID:-//ChamberMaster//Event Calendar 2.0//EN
METHOD:PUBLISH
X-PUBLISHED-TTL:P3D
REFRESH-INTERVAL:P3D
CALSCALE:GREGORIAN
BEGIN:VEVENT
DTSTART:20070719T163000Z
DTEND:20070719T180000Z
X-MICROSOFT-CDO-ALLDAYEVENT:FALSE
SUMMARY:2007 July Ambassador Lunch Meeting
DESCRIPTION:Chicken Piccata\, Chef's choice of fresh vegetables\, tender field greens w/tomatoes\, cucumbers and artichoke hearts\, topped with Balsamic Vinaigrette. Iced Tea\, Coffee and no Dessert.
X-ALT-DESC;FMTTYPE=text/html:Chicken Piccata\, Chef's choice of fresh vegetables\, tender field greens w/tomatoes\, cucumbers and artichoke hearts\, topped with Balsamic Vinaigrette. Iced Tea\, Coffee and no Dessert.
LOCATION:The Club at Sontera
UID:e.2020.378
SEQUENCE:3
DTSTAMP:20260426T043450Z
URL:https://cm-dev.metrosa.com/events/details/2007-july-ambassador-lunch-meeting-07-19-2007-378
END:VEVENT

END:VCALENDAR
