BEGIN:VCALENDAR
VERSION:2.0
PRODID:-//ChamberMaster//Event Calendar 2.0//EN
METHOD:PUBLISH
X-PUBLISHED-TTL:P3D
REFRESH-INTERVAL:P3D
CALSCALE:GREGORIAN
BEGIN:VEVENT
DTSTART:20070726T121500Z
DTEND:20070726T140000Z
X-MICROSOFT-CDO-ALLDAYEVENT:FALSE
SUMMARY:2007 July CIO Breakfast - TJX Incident
DESCRIPTION:If you are currently not subscribed to CIO meeting info\, please contact Debby Zucker before registering. \n Thank youSecurity can often be a very reactive business.  The recent\, well publicized\, massive data loss incident at the company TJX represents an opportunity for merchants\, service providers and security professionals to do two things: 1.      Feel very fortunate that it was not their company\, and\n2.      Take advantage of the situation to learn how to improve aspects of their own programs or approach.The briefing will consider the TXJ incident and outline some of the most important lessons that we can all learn from this high impact breakdown.
X-ALT-DESC;FMTTYPE=text/html:<P class=MsoNormal><FONT face="Times New Roman" color=#ff0000 size=3><SPAN style="FONT-SIZE: 12pt"><EM>If you are currently not subscribed to CIO meeting info\, please contact Debby Zucker before registering.&nbsp\;<BR></EM></SPAN></FONT><FONT face="Times New Roman" color=#ff0000 size=3><SPAN style="FONT-SIZE: 12pt"><EM>&nbsp\;Thank you</EM></SPAN></FONT></P><P class=MsoNormal><FONT face="Times New Roman" size=3><SPAN style="FONT-SIZE: 12pt">Security can often be a very reactive business.&nbsp\; The recent\, well publicized\, massive data loss incident at the company TJX represents an opportunity for merchants\, service providers and security professionals to do two things:<?xml:namespace prefix = o ns = "urn:schemas-microsoft-com:office:office" /><o:p></o:p></SPAN></FONT></P><P class=MsoNormal><FONT face="Times New Roman" size=3><SPAN style="FONT-SIZE: 12pt"><o:p>&nbsp\;</o:p></SPAN></FONT><FONT face="Times New Roman" size=3><SPAN style="FONT-SIZE: 12pt"><SPAN style="mso-list: Ignore">1.<FONT face="Times New Roman" size=1><SPAN style="FONT: 7pt 'Times New Roman'">&nbsp\;&nbsp\;&nbsp\;&nbsp\;&nbsp\; </SPAN></FONT></SPAN></SPAN></FONT>Feel very fortunate that it was not their company\, and<BR><FONT face="Times New Roman" size=3><SPAN style="FONT-SIZE: 12pt"><SPAN style="mso-list: Ignore">2.<FONT face="Times New Roman" size=1><SPAN style="FONT: 7pt 'Times New Roman'">&nbsp\;&nbsp\;&nbsp\;&nbsp\;&nbsp\; </SPAN></FONT></SPAN></SPAN></FONT>Take advantage of the situation to learn how to improve aspects of their own programs or approach.<o:p></o:p></P><P class=MsoNormal><FONT face="Times New Roman" size=3><SPAN style="FONT-SIZE: 12pt"><o:p></o:p></SPAN></FONT></P><P class=MsoNormal><FONT face="Times New Roman" size=3><SPAN style="FONT-SIZE: 12pt">The briefing will consider the TXJ incident and outline some of the most important lessons that we can all learn from this high impact breakdown.<o:p></o:p></SPAN></FONT></P><P>&nbsp\;</P>
LOCATION:The Petroleum Club
UID:e.2020.375
SEQUENCE:3
DTSTAMP:20260426T043312Z
URL:https://cm-dev.metrosa.com/events/details/2007-july-cio-breakfast-tjx-incident-07-26-2007-375
END:VEVENT

END:VCALENDAR
