BEGIN:VCALENDAR
VERSION:2.0
PRODID:-//ChamberMaster//Event Calendar 2.0//EN
METHOD:PUBLISH
X-PUBLISHED-TTL:P3D
REFRESH-INTERVAL:P3D
CALSCALE:GREGORIAN
BEGIN:VEVENT
DTSTART:20070724T223000Z
DTEND:20070725T003000Z
X-MICROSOFT-CDO-ALLDAYEVENT:FALSE
SUMMARY:2007 JULY GRAND OPENING @ First Community Bank
DESCRIPTION:FIRST COMMUNITY BANK\n11040 IH 10 West\, Community Plaza Office\nTuesday July 24\, 2007\nRIBBON CUTTING @ 6:00 p.m.\nCONTACT: Nancy Kinder @ 347-2552 or FCB direct line is (210)558-3000\nCHAMBER CONTACT: Chuck Koonse @ 384-7722\nDIRECTIONS: Located on the frontage road on the West side of IH-10 between Huebner and DeZavala near the Cracker Barrel Restaurant. If you travel West on IH-10 from downtown\, you will take theHuebner road exit\, turn left under IH-10 stay on Huebner for one block to Fredericksburg road. Turn right on Fredericksburg road and the entrance to FCB is on the right. You can also reach an entrance from IH-10 frontage road before Huebner if you are traveling East toward down town.
X-ALT-DESC;FMTTYPE=text/html:FIRST COMMUNITY BANK\n11040 IH 10 West\, Community Plaza Office\nTuesday July 24\, 2007\nRIBBON CUTTING @ 6:00 p.m.\nCONTACT: Nancy Kinder @ 347-2552 or FCB direct line is (210)558-3000\nCHAMBER CONTACT: Chuck Koonse @ 384-7722\nDIRECTIONS: Located on the frontage road on the West side of IH-10 between Huebner and DeZavala near the Cracker Barrel Restaurant. If you travel West on IH-10 from downtown\, you will take theHuebner road exit\, turn left under IH-10 stay on Huebner for one block to Fredericksburg road. Turn right on Fredericksburg road and the entrance to FCB is on the right. You can also reach an entrance from IH-10 frontage road before Huebner if you are traveling East toward down town.
LOCATION:First Community Bank
UID:e.2020.388
SEQUENCE:3
DTSTAMP:20260426T043501Z
URL:https://cm-dev.metrosa.com/events/details/2007-july-grand-opening-first-community-bank-07-24-2007-388
END:VEVENT

END:VCALENDAR
