BEGIN:VCALENDAR
VERSION:2.0
PRODID:-//ChamberMaster//Event Calendar 2.0//EN
METHOD:PUBLISH
X-PUBLISHED-TTL:P3D
REFRESH-INTERVAL:P3D
CALSCALE:GREGORIAN
BEGIN:VEVENT
DTSTART:20071115T133000Z
DTEND:20071115T150000Z
X-MICROSOFT-CDO-ALLDAYEVENT:FALSE
SUMMARY:2007 Nov CIO 2008 Planning
DESCRIPTION:If you are currently not subscribed to CIO meeting info\, please contact Debby Zucker (384.7720) before registering. \n Thank you
X-ALT-DESC;FMTTYPE=text/html:<P class=MsoNormal><FONT face="Times New Roman" color=#ff0000 size=3><SPAN style="FONT-SIZE: 12pt"><EM>If you are currently not subscribed to CIO meeting info\, please contact Debby Zucker (384.7720) before registering.&nbsp\;<BR></EM></SPAN></FONT><FONT face="Times New Roman" color=#ff0000 size=3><SPAN style="FONT-SIZE: 12pt"><EM>&nbsp\;Thank you</EM></SPAN></FONT></P><FONT face=Arial color=#000080 size=2><SPAN style="FONT-SIZE: 12pt"><P class=MsoNormal style="MARGIN: 0in 0in 0pt"><SPAN style="FONT-SIZE: 12pt\; FONT-FAMILY: 'Times New Roman'\; mso-fareast-font-family: 'Times New Roman'\; mso-ansi-language: EN-US\; mso-fareast-language: EN-US\; mso-bidi-language: AR-SA"><BR style="PAGE-BREAK-BEFORE: always\; mso-break-type: section-break" clear=all></SPAN>&nbsp\;</P></SPAN></FONT>
LOCATION:The Petroleum Club
UID:e.2020.446
SEQUENCE:3
DTSTAMP:20260426T000734Z
URL:https://cm-dev.metrosa.com/events/details/2007-nov-cio-2008-planning-11-15-2007-446
END:VEVENT

END:VCALENDAR
