BEGIN:VCALENDAR
VERSION:2.0
PRODID:-//ChamberMaster//Event Calendar 2.0//EN
METHOD:PUBLISH
X-PUBLISHED-TTL:P3D
REFRESH-INTERVAL:P3D
CALSCALE:GREGORIAN
BEGIN:VEVENT
DTSTART:20071115T230000Z
DTEND:20071116T000000Z
X-MICROSOFT-CDO-ALLDAYEVENT:FALSE
SUMMARY:2007 NOV Grand Opening @ Southwest Texas Publishing Inc
DESCRIPTION:SOUTHWEST TEXAS PUBLISHING INC/MIDDLETON ADVERTISING AGENCY INC   \n8000 IH 10 West\, Suite 600\, 78230		\nThe Forum Building\nThursday November 15\, 2007\nRIBBON CUTTING @ 5:00 p.m.\nCONTACT:  Yvette Sanchez @ 818-7581\nCHAMBER CONTACT: Samantha Collins @ 384-7726
X-ALT-DESC;FMTTYPE=text/html:SOUTHWEST TEXAS PUBLISHING INC/MIDDLETON ADVERTISING AGENCY INC   \n8000 IH 10 West\, Suite 600\, 78230		\nThe Forum Building\nThursday November 15\, 2007\nRIBBON CUTTING @ 5:00 p.m.\nCONTACT:  Yvette Sanchez @ 818-7581\nCHAMBER CONTACT: Samantha Collins @ 384-7726\n
LOCATION:SW Texas Publishing Inc/Middleton Advertising Agency Inc
UID:e.2020.430
SEQUENCE:3
DTSTAMP:20260426T001524Z
URL:https://cm-dev.metrosa.com/events/details/2007-nov-grand-opening-southwest-texas-publishing-inc-11-15-2007-430
END:VEVENT

END:VCALENDAR
