BEGIN:VCALENDAR
VERSION:2.0
PRODID:-//ChamberMaster//Event Calendar 2.0//EN
METHOD:PUBLISH
X-PUBLISHED-TTL:P3D
REFRESH-INTERVAL:P3D
CALSCALE:GREGORIAN
BEGIN:VEVENT
DTSTART:20071115T173000Z
DTEND:20071115T190000Z
X-MICROSOFT-CDO-ALLDAYEVENT:FALSE
SUMMARY:2007 November Ambassador Lunch Meeting
DESCRIPTION:MENU:	3 Mixed Party Trays (including hummos\, tabouli\, falaffel\, dawali\, baba\, foole\, loubie)\n3 Rolled Pita Trays (10 rolls each tray/cut in half) (including turkey\, chicken salad\, chicken dijon\, kafta\, shishkebob)*2 Aladdin's Salad Trays *1 Tray of Jasmine's Rice (rice with vegetables and beans)*1 Tray of White Rice (rice with vermicelli wheat noodle\, pine nuts\, almonds\, cinnamon)*2 Whole Cakes (Strawberry Cassata and Chocolate Fantasy)
X-ALT-DESC;FMTTYPE=text/html:MENU:	3 Mixed Party Trays (including hummos\, tabouli\, falaffel\, dawali\, baba\, foole\, loubie)\n3 Rolled Pita Trays (10 rolls each tray/cut in half) (including turkey\, chicken salad\, chicken dijon\, kafta\, shishkebob)*2 Aladdin's Salad Trays *1 Tray of Jasmine's Rice (rice with vegetables and beans)*1 Tray of White Rice (rice with vermicelli wheat noodle\, pine nuts\, almonds\, cinnamon)*2 Whole Cakes (Strawberry Cassata and Chocolate Fantasy)\n
LOCATION:Aladdin's Eatery
UID:e.2020.397
SEQUENCE:3
DTSTAMP:20260426T001401Z
URL:https://cm-dev.metrosa.com/events/details/2007-november-ambassador-lunch-meeting-11-15-2007-397
END:VEVENT

END:VCALENDAR
