BEGIN:VCALENDAR
VERSION:2.0
PRODID:-//ChamberMaster//Event Calendar 2.0//EN
METHOD:PUBLISH
X-PUBLISHED-TTL:P3D
REFRESH-INTERVAL:P3D
CALSCALE:GREGORIAN
BEGIN:VEVENT
DTSTART:20071109T230000Z
DTEND:20071110T000000Z
X-MICROSOFT-CDO-ALLDAYEVENT:FALSE
SUMMARY:2007 NOVEMBER GRAND OPENING @ BATH JUNKIE
DESCRIPTION:BATH JUNKIE\n15900 La Cantera Pkwy\, Suite 8885\nThe Shops At La Cantera\nFriday November 9\, 2007\nRIBBON CUTTING @ 5:00 p.m.\nCONTACT: Mr. Kayne Stroup @ 257-0360\nCHAMBER CONTACT: Samantha Collins @ 384-7726\nDIRECTIONS: In The Shops at La Cantera on the Macy's side of the shopping area. Next door to the Marble Slab Ice Cream Shop and across the way from the Regis Hair Salon.
X-ALT-DESC;FMTTYPE=text/html:BATH JUNKIE\n15900 La Cantera Pkwy\, Suite 8885\nThe Shops At La Cantera\nFriday November 9\, 2007\nRIBBON CUTTING @ 5:00 p.m.\nCONTACT: Mr. Kayne Stroup @ 257-0360\nCHAMBER CONTACT: Samantha Collins @ 384-7726\nDIRECTIONS: In The Shops at La Cantera on the Macy's side of the shopping area. Next door to the Marble Slab Ice Cream Shop and across the way from the Regis Hair Salon.
LOCATION:Bath Junkie
UID:e.2020.441
SEQUENCE:3
DTSTAMP:20260426T002152Z
URL:https://cm-dev.metrosa.com/events/details/2007-november-grand-opening-bath-junkie-11-09-2007-441
END:VEVENT

END:VCALENDAR
