BEGIN:VCALENDAR
VERSION:2.0
PRODID:-//ChamberMaster//Event Calendar 2.0//EN
METHOD:PUBLISH
X-PUBLISHED-TTL:P3D
REFRESH-INTERVAL:P3D
CALSCALE:GREGORIAN
BEGIN:VEVENT
DTSTART:20071113T233000Z
DTEND:20071114T013000Z
X-MICROSOFT-CDO-ALLDAYEVENT:FALSE
SUMMARY:2007 NOVEMBER GRAND OPENING @ CUPCAKE JUNCTION
DESCRIPTION:CUPCAKE JUNCTION\n9714 Potranco Road Suite 107\,78251\nPotranco Point Shopping Center\nTuesday November 13\, 2007\nRIBBON CUTTING @ 5:30 P.M.\nCONTACT: Evelyn & Sherry Mathis @ 682-1000\nCHAMBER CONTACT: Samantha Collins @ 384-7726\nDIRECTIONS: Loop 410 West. Exit Military Drive West. Turn right on to Military Drive and left onto Potranco Road going West. You will pass Culebra\, Hwy 151\, Hunt Lane and arrive at the corner of Dugas Drive and Potranco. The store is across from John Stevens High School off Dugas Dr. It is also next to Pet Barn. \n\nRefreshments will be served. Chocolate Fountain\, samples of cupcakes and 2 New Flavors!(Coffee and Italian Eggnut)\nCupcake Junction in Northwest San Antonio offers 16 flavors of cake and icing for almost endless cupcake variety. Cupcake Junction specializes in all kinds of cupcakes. It has 16 flavors of cake and icing. Cake flavors include red velvet\, cheesecake and strawberry. The store also sells muffins\, pastries\, pies\, cookies\, and coffee and juice for morning commuters.
X-ALT-DESC;FMTTYPE=text/html:CUPCAKE JUNCTION\n9714 Potranco Road Suite 107\,78251\nPotranco Point Shopping Center\nTuesday November 13\, 2007\nRIBBON CUTTING @ 5:30 P.M.\nCONTACT: Evelyn & Sherry Mathis @ 682-1000\nCHAMBER CONTACT: Samantha Collins @ 384-7726\nDIRECTIONS: Loop 410 West. Exit Military Drive West. Turn right on to Military Drive and left onto Potranco Road going West. You will pass Culebra\, Hwy 151\, Hunt Lane and arrive at the corner of Dugas Drive and Potranco. The store is across from John Stevens High School off Dugas Dr. It is also next to Pet Barn. \n\nRefreshments will be served. Chocolate Fountain\, samples of cupcakes and 2 New Flavors!(Coffee and Italian Eggnut)\nCupcake Junction in Northwest San Antonio offers 16 flavors of cake and icing for almost endless cupcake variety. Cupcake Junction specializes in all kinds of cupcakes. It has 16 flavors of cake and icing. Cake flavors include red velvet\, cheesecake and strawberry. The store also sells muffins\, pastries\, pies\, cookies\, and coffee and juice for morning commuters.\n
LOCATION:Cupcake Junction
UID:e.2020.445
SEQUENCE:3
DTSTAMP:20260426T001054Z
URL:https://cm-dev.metrosa.com/events/details/2007-november-grand-opening-cupcake-junction-11-13-2007-445
END:VEVENT

END:VCALENDAR
