BEGIN:VCALENDAR
VERSION:2.0
PRODID:-//ChamberMaster//Event Calendar 2.0//EN
METHOD:PUBLISH
X-PUBLISHED-TTL:P3D
REFRESH-INTERVAL:P3D
CALSCALE:GREGORIAN
BEGIN:VEVENT
DTSTART:20071106T173000Z
DTEND:20071106T193000Z
X-MICROSOFT-CDO-ALLDAYEVENT:FALSE
SUMMARY:2007 NOVEMBER GRAND OPENING @ Domnion Advisory Group\, Inc.
DESCRIPTION:DOMINION ADVISORY GROUP\, INC\n335 East Sonterra Blvd\nTuesday November 6\, 2007\nRIBBON CUTTING @ 11:45 A.M.\nCONTACT: Rachel Allen at 483-6769\nCHAMBER CONTACT: Samantha Collins @ 384-7726\nDIRECTIONS: Stone Oak Parkway outside of Loop 1604 Turn Right on to Sonterra Blvd. At the traffic light for Ronald Reagan St. turn left and make a U-turn and go back East on Sonterra. You will see the building on the right.
X-ALT-DESC;FMTTYPE=text/html:DOMINION ADVISORY GROUP\, INC\n335 East Sonterra Blvd\nTuesday November 6\, 2007\nRIBBON CUTTING @ 11:45 A.M.\nCONTACT: Rachel Allen at 483-6769\nCHAMBER CONTACT: Samantha Collins @ 384-7726\nDIRECTIONS: Stone Oak Parkway outside of Loop 1604 Turn Right on to Sonterra Blvd. At the traffic light for Ronald Reagan St. turn left and make a U-turn and go back East on Sonterra. You will see the building on the right.
LOCATION:Domnion Advisory Group Inc
UID:e.2020.426
SEQUENCE:3
DTSTAMP:20260426T001503Z
URL:https://cm-dev.metrosa.com/events/details/2007-november-grand-opening-domnion-advisory-group-inc-11-06-2007-426
END:VEVENT

END:VCALENDAR
