BEGIN:VCALENDAR
VERSION:2.0
PRODID:-//ChamberMaster//Event Calendar 2.0//EN
METHOD:PUBLISH
X-PUBLISHED-TTL:P3D
REFRESH-INTERVAL:P3D
CALSCALE:GREGORIAN
BEGIN:VEVENT
DTSTART:20071129T233000Z
DTEND:20071130T013000Z
X-MICROSOFT-CDO-ALLDAYEVENT:FALSE
SUMMARY:2007 NOVEMBER GRAND OPENING @ SPHERION
DESCRIPTION:SPHERION\n9311 San Pedro\, Suite 725\, 78216\nSouthwestern Business Corp Bldg.\nThursday November 29\, 2007\nRIBBON CUTTING @ 5:30 p.m.\nCONTACT: Johanna Hill @ 507-0185\nCHAMBER CONTACT: Samantha Collins @ 384-7726\nDIRECTIONS: They are located just outside the 410 loop. From 410 you would take San Pedro North and they are located in the Southwest Business Corporation building about 1/4 mile north of 410 on the left hand side. \nRegional Manager\, Chad Macy and Vice President\, Bennett Ockrim and Managing Director\, Sheema Harris will be in attendence. Refreshments will be served.
X-ALT-DESC;FMTTYPE=text/html:SPHERION\n9311 San Pedro\, Suite 725\, 78216\nSouthwestern Business Corp Bldg.\nThursday November 29\, 2007\nRIBBON CUTTING @ 5:30 p.m.\nCONTACT: Johanna Hill @ 507-0185\nCHAMBER CONTACT: Samantha Collins @ 384-7726\nDIRECTIONS: They are located just outside the 410 loop. From 410 you would take San Pedro North and they are located in the Southwest Business Corporation building about 1/4 mile north of 410 on the left hand side. \nRegional Manager\, Chad Macy and Vice President\, Bennett Ockrim and Managing Director\, Sheema Harris will be in attendence. Refreshments will be served. \n
LOCATION:SPHERION
UID:e.2020.421
SEQUENCE:3
DTSTAMP:20260426T000912Z
URL:https://cm-dev.metrosa.com/events/details/2007-november-grand-opening-spherion-11-29-2007-421
END:VEVENT

END:VCALENDAR
