BEGIN:VCALENDAR
VERSION:2.0
PRODID:-//ChamberMaster//Event Calendar 2.0//EN
METHOD:PUBLISH
X-PUBLISHED-TTL:P3D
REFRESH-INTERVAL:P3D
CALSCALE:GREGORIAN
BEGIN:VEVENT
DTSTART:20071201T000000Z
DTEND:20071201T030000Z
X-MICROSOFT-CDO-ALLDAYEVENT:FALSE
SUMMARY:2007 NOVEMBER Leadership Lab Graduation
DESCRIPTION:
X-ALT-DESC;FMTTYPE=text/html:
LOCATION:The Plaza Club
UID:e.2020.423
SEQUENCE:3
DTSTAMP:20260426T001111Z
URL:https://cm-dev.metrosa.com/events/details/2007-november-leadership-lab-graduation-11-30-2007-423
END:VEVENT

END:VCALENDAR
