BEGIN:VCALENDAR
VERSION:2.0
PRODID:-//ChamberMaster//Event Calendar 2.0//EN
METHOD:PUBLISH
X-PUBLISHED-TTL:P3D
REFRESH-INTERVAL:P3D
CALSCALE:GREGORIAN
BEGIN:VEVENT
DTSTART:20071019T230000Z
DTEND:20071020T010000Z
X-MICROSOFT-CDO-ALLDAYEVENT:FALSE
SUMMARY:2007 OCT_1 YEAR ANNIVERSARY San Antonio Computer Doctor
DESCRIPTION:SAN ANTONIO COMPUTER DOCTOR\n2815 North Loop 1604 E\, Suite 102\nFriday October 19\, 2007\nRIBBON CUTTING @ 6:00 p.m. - 1 Year Anniversary Event!\nCONTACT: Scott Broderhausen @ 491-2710\nCHAMBER CONTACT: Samantha Collins @ 384-7726\nDIRECTIONS: Go to their website at www.sanantoniocomputerdoctor.com
X-ALT-DESC;FMTTYPE=text/html:SAN ANTONIO COMPUTER DOCTOR\n2815 North Loop 1604 E\, Suite 102\nFriday October 19\, 2007\nRIBBON CUTTING @ 6:00 p.m. - 1 Year Anniversary Event!\nCONTACT: Scott Broderhausen @ 491-2710\nCHAMBER CONTACT: Samantha Collins @ 384-7726\nDIRECTIONS: Go to their website at www.sanantoniocomputerdoctor.com
LOCATION:San Antonio Computer Doctor
UID:e.2020.424
SEQUENCE:3
DTSTAMP:20260426T012037Z
URL:https://cm-dev.metrosa.com/events/details/2007-oct_1-year-anniversary-san-antonio-computer-doctor-10-19-2007-424
END:VEVENT

END:VCALENDAR
