BEGIN:VCALENDAR
VERSION:2.0
PRODID:-//ChamberMaster//Event Calendar 2.0//EN
METHOD:PUBLISH
X-PUBLISHED-TTL:P3D
REFRESH-INTERVAL:P3D
CALSCALE:GREGORIAN
BEGIN:VEVENT
DTSTART:20071018T163000Z
DTEND:20071018T180000Z
X-MICROSOFT-CDO-ALLDAYEVENT:FALSE
SUMMARY:2007 October Ambassador Lunch Meeting
DESCRIPTION:Grilled Chicken in Alfredo Sauce\, steamed broccoli spears\, salad\, tomatoes\, roasted bell pepper\, croutons\, Parmesan cheese with Italian Vinaigrette and rolls w/butter. Preset Ice Tea\, Water\, Bread and Salad
X-ALT-DESC;FMTTYPE=text/html:Grilled Chicken in Alfredo Sauce\, steamed broccoli spears\, salad\, tomatoes\, roasted bell pepper\, croutons\, Parmesan cheese with Italian Vinaigrette and rolls w/butter. Preset Ice Tea\, Water\, Bread and Salad
LOCATION:Plaza Club
UID:e.2020.389
SEQUENCE:3
DTSTAMP:20260426T012027Z
URL:https://cm-dev.metrosa.com/events/details/2007-october-ambassador-lunch-meeting-10-18-2007-389
END:VEVENT

END:VCALENDAR
