BEGIN:VCALENDAR
VERSION:2.0
PRODID:-//ChamberMaster//Event Calendar 2.0//EN
METHOD:PUBLISH
X-PUBLISHED-TTL:P3D
REFRESH-INTERVAL:P3D
CALSCALE:GREGORIAN
BEGIN:VEVENT
DTSTART:20071019T160000Z
DTEND:20071019T190000Z
X-MICROSOFT-CDO-ALLDAYEVENT:FALSE
SUMMARY:2007 OCTOBER GRAND OPENING @ Aladdin's Eatery
DESCRIPTION:ALADDIN'S EATERY\nLa Arcata Shopping Center\n115 N Loop 1604 E #1107\, 78232\nFriday October 19\, 2007\nRIBBON CUTTING @ 11:30 a.m. Open House Event - 11:00 a.m. - 2:00 p.m.\nCONTACT: Andy Desai @ 837-2901\nCHAMBER CONTACT: Samantha Collins @ 384-7726\nDIRECTIONS: From 1604 East\, exit Stone Oak Pkwy turn right on to Tuscany Stone Road\, go around the circle and on the right is the La Arcata Shopping Center\nIt will be an Open House Event with samples of their menu served and refreshments.
X-ALT-DESC;FMTTYPE=text/html:ALADDIN'S EATERY\nLa Arcata Shopping Center\n115 N Loop 1604 E #1107\, 78232\nFriday October 19\, 2007\nRIBBON CUTTING @ 11:30 a.m. Open House Event - 11:00 a.m. - 2:00 p.m.\nCONTACT: Andy Desai @ 837-2901\nCHAMBER CONTACT: Samantha Collins @ 384-7726\nDIRECTIONS: From 1604 East\, exit Stone Oak Pkwy turn right on to Tuscany Stone Road\, go around the circle and on the right is the La Arcata Shopping Center\nIt will be an Open House Event with samples of their menu served and refreshments.
LOCATION:Aladdin's Eatery
UID:e.2020.422
SEQUENCE:3
DTSTAMP:20260426T012015Z
URL:https://cm-dev.metrosa.com/events/details/2007-october-grand-opening-aladdin-s-eatery-10-19-2007-422
END:VEVENT

END:VCALENDAR
