BEGIN:VCALENDAR
VERSION:2.0
PRODID:-//ChamberMaster//Event Calendar 2.0//EN
METHOD:PUBLISH
X-PUBLISHED-TTL:P3D
REFRESH-INTERVAL:P3D
CALSCALE:GREGORIAN
BEGIN:VEVENT
DTSTART:20071024T210000Z
DTEND:20071024T230000Z
X-MICROSOFT-CDO-ALLDAYEVENT:FALSE
SUMMARY:2007 OCTOBER GRAND OPENING @ Amegy Bank of Texas
DESCRIPTION:AMEGY BANK OF TEXAS\n10001 Reunion Place\, Suite 190\nWednesday October 24\, 2007\nRIBBON CUTTING @ 5:00 p.m. Event - 4:00 - 6:00 p.m.\nCONTACT: Jane Knapik @ 343-4409\nCHAMBER CONTACT: Samantha Collins @ 384-7726\nDIRECTIONS: Location Map at bank website http://www.amegybank.com
X-ALT-DESC;FMTTYPE=text/html:AMEGY BANK OF TEXAS\n10001 Reunion Place\, Suite 190\nWednesday October 24\, 2007\nRIBBON CUTTING @ 5:00 p.m. Event - 4:00 - 6:00 p.m.\nCONTACT: Jane Knapik @ 343-4409\nCHAMBER CONTACT: Samantha Collins @ 384-7726\nDIRECTIONS: Location Map at bank website http://www.amegybank.com
LOCATION:Amegy Bank of Texas
UID:e.2020.418
SEQUENCE:3
DTSTAMP:20260426T011600Z
URL:https://cm-dev.metrosa.com/events/details/2007-october-grand-opening-amegy-bank-of-texas-10-24-2007-418
END:VEVENT

END:VCALENDAR
