BEGIN:VCALENDAR
VERSION:2.0
PRODID:-//ChamberMaster//Event Calendar 2.0//EN
METHOD:PUBLISH
X-PUBLISHED-TTL:P3D
REFRESH-INTERVAL:P3D
CALSCALE:GREGORIAN
BEGIN:VEVENT
DTSTART:20071023T223000Z
DTEND:20071024T003000Z
X-MICROSOFT-CDO-ALLDAYEVENT:FALSE
SUMMARY:2007 OCTOBER GRAND OPENING @ First Community Bank/Basse Rd
DESCRIPTION:FIRST COMMUNITY BANK	\nLincoln Heights Branch\n970 East Basse Road\, 78209\nTuesday October 23\, 2007\nRIBBON CUTTING @ 6:00 p.m. Event: 5:30 - 7:30 p.m.\nCONTACT: Nancy Kinder @ 347-2552 CELL\nCHAMBER CONTACT: Samantha Collins @ 384-7726\nDIRECTIONS: 281 South Exit at Jones Maltsburger. Left at light drive under the 281 past the Quarry Shopping Center to the traffic light for Basse. Turn left on to Basse Road . The bank building is across the street from the HEB in the Lincoln Heights Shopping Center.
X-ALT-DESC;FMTTYPE=text/html:FIRST COMMUNITY BANK	\nLincoln Heights Branch\n970 East Basse Road\, 78209\nTuesday October 23\, 2007\nRIBBON CUTTING @ 6:00 p.m. Event: 5:30 - 7:30 p.m.\nCONTACT: Nancy Kinder @ 347-2552 CELL\nCHAMBER CONTACT: Samantha Collins @ 384-7726\nDIRECTIONS: 281 South Exit at Jones Maltsburger. Left at light drive under the 281 past the Quarry Shopping Center to the traffic light for Basse. Turn left on to Basse Road . The bank building is across the street from the HEB in the Lincoln Heights Shopping Center.
LOCATION:First Community Bank
UID:e.2020.404
SEQUENCE:3
DTSTAMP:20260426T011416Z
URL:https://cm-dev.metrosa.com/events/details/2007-october-grand-opening-first-community-bank-basse-rd-10-23-2007-404
END:VEVENT

END:VCALENDAR
