BEGIN:VCALENDAR
VERSION:2.0
PRODID:-//ChamberMaster//Event Calendar 2.0//EN
METHOD:PUBLISH
X-PUBLISHED-TTL:P3D
REFRESH-INTERVAL:P3D
CALSCALE:GREGORIAN
BEGIN:VEVENT
DTSTART:20071019T220000Z
DTEND:20071020T000000Z
X-MICROSOFT-CDO-ALLDAYEVENT:FALSE
SUMMARY:2007 OCTOBER GRAND OPENING @ Freddy's Frozen Custard/281N
DESCRIPTION:FREDDY'S FROZEN CUSTARD\n16255 US HWY 281 N\, 78232\nFriday October 19\, 2007\nRIBBON CUTTING @ 5:00 p.m.\nCONTACT: James Oberg @ 413-6262 or Mae Escobar @ 241-6644\nCHAMBER CONTACT: Samantha Collins @ 384-7726\nDIRECTIONS: 281 North at Thousand Oaks
X-ALT-DESC;FMTTYPE=text/html:FREDDY'S FROZEN CUSTARD\n16255 US HWY 281 N\, 78232\nFriday October 19\, 2007\nRIBBON CUTTING @ 5:00 p.m.\nCONTACT: James Oberg @ 413-6262 or Mae Escobar @ 241-6644\nCHAMBER CONTACT: Samantha Collins @ 384-7726\nDIRECTIONS: 281 North at Thousand Oaks
LOCATION:Freddy's Frozen Custard
UID:e.2020.415
SEQUENCE:3
DTSTAMP:20260426T011523Z
URL:https://cm-dev.metrosa.com/events/details/2007-october-grand-opening-freddy-s-frozen-custard-281n-10-19-2007-415
END:VEVENT

END:VCALENDAR
