BEGIN:VCALENDAR
VERSION:2.0
PRODID:-//ChamberMaster//Event Calendar 2.0//EN
METHOD:PUBLISH
X-PUBLISHED-TTL:P3D
REFRESH-INTERVAL:P3D
CALSCALE:GREGORIAN
BEGIN:VEVENT
DTSTART:20071026T220000Z
DTEND:20071027T000000Z
X-MICROSOFT-CDO-ALLDAYEVENT:FALSE
SUMMARY:2007 OCTOBER GRAND OPENING @ Freddy's Frozen Custard/Basse
DESCRIPTION:FREDDY'S FROZEN CUSTARD\n255 East Basse Road # 1050\, 78209\nFriday October 25\, 2007\nRIBBON CUTTING @ 5:00 p.m.\nCONTACT: Mae Escobar @ 241-6644 or James Oberg @ 413-6262 \nCHAMBER CONTACT: Samantha Collins @ 384-7726\nDIRECTIONS: In the Alamo Quarry Market Shopping Center
X-ALT-DESC;FMTTYPE=text/html:FREDDY'S FROZEN CUSTARD\n255 East Basse Road # 1050\, 78209\nFriday October 25\, 2007\nRIBBON CUTTING @ 5:00 p.m.\nCONTACT: Mae Escobar @ 241-6644 or James Oberg @ 413-6262 \nCHAMBER CONTACT: Samantha Collins @ 384-7726\nDIRECTIONS: In the Alamo Quarry Market Shopping Center
LOCATION:Freddy's Frozen Custard
UID:e.2020.417
SEQUENCE:3
DTSTAMP:20260426T011548Z
URL:https://cm-dev.metrosa.com/events/details/2007-october-grand-opening-freddy-s-frozen-custard-basse-10-26-2007-417
END:VEVENT

END:VCALENDAR
