BEGIN:VCALENDAR
VERSION:2.0
PRODID:-//ChamberMaster//Event Calendar 2.0//EN
METHOD:PUBLISH
X-PUBLISHED-TTL:P3D
REFRESH-INTERVAL:P3D
CALSCALE:GREGORIAN
BEGIN:VEVENT
DTSTART:20071002T210000Z
DTEND:20071002T223000Z
X-MICROSOFT-CDO-ALLDAYEVENT:FALSE
SUMMARY:2007 OCTOBER GRAND OPENING @ My Magical Meals
DESCRIPTION:MY MAGICAL MEALS\n11825 West Ave\, #102\, 78216\nTuesday\, October 2\, 2007\nRIBBON CUTTING @ 4:30 p.m.\nCHAMBER CONTACT: Samantha Collins @ 384-7726 or scollins@northsachamber.com\nBUSINESS CONTACT: Katrina and Mark @ 979-6325 or www.mymagicalmeals.com\nRefreshments\, lite snacks\, baked goods and finger food will be served. Sample some of their Magical Meals.
X-ALT-DESC;FMTTYPE=text/html:MY MAGICAL MEALS\n11825 West Ave\, #102\, 78216\nTuesday\, October 2\, 2007\nRIBBON CUTTING @ 4:30 p.m.\nCHAMBER CONTACT: Samantha Collins @ 384-7726 or scollins@northsachamber.com\nBUSINESS CONTACT: Katrina and Mark @ 979-6325 or www.mymagicalmeals.com\nRefreshments\, lite snacks\, baked goods and finger food will be served. Sample some of their Magical Meals.
LOCATION:My Magical Meals
UID:e.2020.410
SEQUENCE:3
DTSTAMP:20260426T012036Z
URL:https://cm-dev.metrosa.com/events/details/2007-october-grand-opening-my-magical-meals-10-02-2007-410
END:VEVENT

END:VCALENDAR
