BEGIN:VCALENDAR
VERSION:2.0
PRODID:-//ChamberMaster//Event Calendar 2.0//EN
METHOD:PUBLISH
X-PUBLISHED-TTL:P3D
REFRESH-INTERVAL:P3D
CALSCALE:GREGORIAN
BEGIN:VEVENT
DTSTART:20071018T213000Z
DTEND:20071019T013000Z
X-MICROSOFT-CDO-ALLDAYEVENT:FALSE
SUMMARY:2007 OCTOBER GRAND OPENING @ Preferred Landscape & Lighting
DESCRIPTION:PREFERRED LANDSCAPE AND LIGHTING\n6046 Old Camp Bullis Road\, 78257\nThursday\, October 18\, 2007\nRIBBON CUTTING @ 5:00 p.m . Event: 4:30 - 8:30 p.m.\nCONTACT: David Dunne @ 657-7737\nCHAMBER CONTACT: Samantha Collins @ 384-7726\nDIRECTIONS: Traveling from north\, exit La Cantera Parkway and take the turn around to Old Camp Bullis Road. From the south\, exit Camp Bullis Road and turn on to Old Camp Bullis Road. \nThe event is their 3rd Annual Fall Festival! Hors d'oeuvres\, beverages\, margaritas will be served. Free Pumpkins for everyone! RSVP to Michelle at mwiatrek@preferredlandscapetx.com
X-ALT-DESC;FMTTYPE=text/html:PREFERRED LANDSCAPE AND LIGHTING\n6046 Old Camp Bullis Road\, 78257\nThursday\, October 18\, 2007\nRIBBON CUTTING @ 5:00 p.m . Event: 4:30 - 8:30 p.m.\nCONTACT: David Dunne @ 657-7737\nCHAMBER CONTACT: Samantha Collins @ 384-7726\nDIRECTIONS: Traveling from north\, exit La Cantera Parkway and take the turn around to Old Camp Bullis Road. From the south\, exit Camp Bullis Road and turn on to Old Camp Bullis Road. \nThe event is their 3rd Annual Fall Festival! Hors d'oeuvres\, beverages\, margaritas will be served. Free Pumpkins for everyone! RSVP to Michelle at mwiatrek@preferredlandscapetx.com
LOCATION:Preferred Landscape & Lighting
UID:e.2020.420
SEQUENCE:3
DTSTAMP:20260426T011303Z
URL:https://cm-dev.metrosa.com/events/details/2007-october-grand-opening-preferred-landscape-lighting-10-18-2007-420
END:VEVENT

END:VCALENDAR
