BEGIN:VCALENDAR
VERSION:2.0
PRODID:-//ChamberMaster//Event Calendar 2.0//EN
METHOD:PUBLISH
X-PUBLISHED-TTL:P3D
REFRESH-INTERVAL:P3D
CALSCALE:GREGORIAN
BEGIN:VEVENT
DTSTART:20070913T150000Z
DTEND:20070913T170000Z
X-MICROSOFT-CDO-ALLDAYEVENT:FALSE
SUMMARY:2007 SEPT GRAND OPENING @ Chandler Center
DESCRIPTION:CHANDLER CENTER\n137 West French Place\nThursday September 13\, 2007\nRIBBON CUTTING @ 10:00 a.m.\nCONTACT: Alma Cosme @ 421-8259 cell\nCHAMBER CONTACT: Chuck Koonse @ 384-7722\nDIRECTIONS: 281 South exit at Mulberry. Right on Mulberry and left on McCollough and right on French at San Antonio College.
X-ALT-DESC;FMTTYPE=text/html:CHANDLER CENTER\n137 West French Place\nThursday September 13\, 2007\nRIBBON CUTTING @ 10:00 a.m.\nCONTACT: Alma Cosme @ 421-8259 cell\nCHAMBER CONTACT: Chuck Koonse @ 384-7722\nDIRECTIONS: 281 South exit at Mulberry. Right on Mulberry and left on McCollough and right on French at San Antonio College.
LOCATION:Chandler Center
UID:e.2020.405
SEQUENCE:3
DTSTAMP:20260426T022648Z
URL:https://cm-dev.metrosa.com/events/details/2007-sept-grand-opening-chandler-center-09-13-2007-405
END:VEVENT

END:VCALENDAR
