BEGIN:VCALENDAR
VERSION:2.0
PRODID:-//ChamberMaster//Event Calendar 2.0//EN
METHOD:PUBLISH
X-PUBLISHED-TTL:P3D
REFRESH-INTERVAL:P3D
CALSCALE:GREGORIAN
BEGIN:VEVENT
DTSTART:20070921T150000Z
DTEND:20070921T170000Z
X-MICROSOFT-CDO-ALLDAYEVENT:FALSE
SUMMARY:2007 SEPT GRAND OPENING @ Grande Communications
DESCRIPTION:GRANDE COMMUNICATIONS-RETAIL\n6555 San Pedro\, 78216\nFriday September 21\, 2007\nRIBBON CUTTING @ 10:00 a.m.\nCONTACT: Mario Muniz @ 389-0001\nCHAMBER CONTACT: Chuck Koonse @ 384-7722\nDIRECTIONS: Corner of San Pedro and Jackson Keller Road
X-ALT-DESC;FMTTYPE=text/html:GRANDE COMMUNICATIONS-RETAIL\n6555 San Pedro\, 78216\nFriday September 21\, 2007\nRIBBON CUTTING @ 10:00 a.m.\nCONTACT: Mario Muniz @ 389-0001\nCHAMBER CONTACT: Chuck Koonse @ 384-7722\nDIRECTIONS: Corner of San Pedro and Jackson Keller Road
LOCATION:Grande Communications-Retail
UID:e.2020.406
SEQUENCE:3
DTSTAMP:20260426T023222Z
URL:https://cm-dev.metrosa.com/events/details/2007-sept-grand-opening-grande-communications-09-21-2007-406
END:VEVENT

END:VCALENDAR
