BEGIN:VCALENDAR
VERSION:2.0
PRODID:-//ChamberMaster//Event Calendar 2.0//EN
METHOD:PUBLISH
X-PUBLISHED-TTL:P3D
REFRESH-INTERVAL:P3D
CALSCALE:GREGORIAN
BEGIN:VEVENT
DTSTART:20070920T163000Z
DTEND:20070920T180000Z
X-MICROSOFT-CDO-ALLDAYEVENT:FALSE
SUMMARY:2007 September Ambassador Lunch Meeting
DESCRIPTION:Sliced Brisket\, BBQ Sauce\, potato salad\, coleslaw\, pinto beans\, bread\, onions\, pickles\, jalapenos\, sweet tea/unsweetened tea and brownies. \n			Lunch is being catered by Grady's BBQ.
X-ALT-DESC;FMTTYPE=text/html:Sliced Brisket\, BBQ Sauce\, potato salad\, coleslaw\, pinto beans\, bread\, onions\, pickles\, jalapenos\, sweet tea/unsweetened tea and brownies. \n			Lunch is being catered by Grady's BBQ.\n
LOCATION:RBFCU - Corp Bldg
UID:e.2020.380
SEQUENCE:3
DTSTAMP:20260426T023248Z
URL:https://cm-dev.metrosa.com/events/details/2007-september-ambassador-lunch-meeting-09-20-2007-380
END:VEVENT

END:VCALENDAR
