BEGIN:VCALENDAR
VERSION:2.0
PRODID:-//ChamberMaster//Event Calendar 2.0//EN
METHOD:PUBLISH
X-PUBLISHED-TTL:P3D
REFRESH-INTERVAL:P3D
CALSCALE:GREGORIAN
BEGIN:VEVENT
DTSTART:20070927T121500Z
DTEND:20070927T140000Z
X-MICROSOFT-CDO-ALLDAYEVENT:FALSE
SUMMARY:2007 September CIO Breakfast
DESCRIPTION:If you are currently not subscribed to CIO meeting info\, please contact Debby Zucker before registering. \n Thank youTom Patterson will speak on:  The Next Generation Internet Protocol Version Six. Discover why this transformation is important.Tom Patterson founded Command Information in 2005\, raising money from the Carlyle Group and acquiring 3 companies\, to form the largest and fastest growing IPv6 solutions company in America\, with over $50 million dollars of revenue and over 350 employees.  Under Tom’s leadership\, Command provides next-generation services and solutions to the Fortune 500 and Federal\, State\, and local governments.   In 2004\, Tom founded the IPv6 Business Council as an IETF working group under their v6 task force\, and published a critically acclaimed book\, Mapping Security\, on information security\, privacy and governance around the world. Tom has been the partner in charge of security services for Deloitte in Europe\, the Middle East and Africa\; the founding managing director of BearingPoint’s global managed services business\; and IBM's chief strategist for electronic commerce. He has served as a board member for several public companies\, has advised all three branches of the U.S. Government on Internet and security policy\, and is a trusted advisor to company executives across the globe. Tom received his Bachelor of Science in Information Systems Management from the University of Maryland\, and is a periodic lecturer at the University of Pennsylvania’s Wharton School\, and the University of Virginia’s Darden School.
X-ALT-DESC;FMTTYPE=text/html:<P class=MsoNormal><FONT face="Times New Roman" color=#ff0000 size=3><SPAN style="FONT-SIZE: 12pt"><EM>If you are currently not subscribed to CIO meeting info\, please contact Debby Zucker before registering.&nbsp\;<BR></EM></SPAN></FONT><FONT face="Times New Roman" color=#ff0000 size=3><SPAN style="FONT-SIZE: 12pt"><EM>&nbsp\;Thank you</EM></SPAN></FONT></P><P class=MsoNormal><FONT face=Arial color=#000080 size=2><SPAN style="FONT-SIZE: 12pt">Tom Patterson will speak on:&nbsp\; The Next Generation Internet Protocol Version Six. Discover why this transformation is important.</SPAN></FONT></P><FONT face=Arial color=#000080 size=2><SPAN style="FONT-SIZE: 12pt"><P class=MsoNormal style="MARGIN: 0in 0in 0pt"><?xml:namespace prefix = v ns = "urn:schemas-microsoft-com:vml" /><v:shapetype id=_x0000_t75 coordsize="21600\,21600" o:spt="75" o:preferrelative="t" path="m@4@5l@4@11@9@11@9@5xe" filled="f" stroked="f"><v:stroke joinstyle="miter"></v:stroke><v:formulas><v:f eqn="if lineDrawn pixelLineWidth 0"></v:f><v:f eqn="sum @0 1 0"></v:f><v:f eqn="sum 0 0 @1"></v:f><v:f eqn="prod @2 1 2"></v:f><v:f eqn="prod @3 21600 pixelWidth"></v:f><v:f eqn="prod @3 21600 pixelHeight"></v:f><v:f eqn="sum @0 0 1"></v:f><v:f eqn="prod @6 1 2"></v:f><v:f eqn="prod @7 21600 pixelWidth"></v:f><v:f eqn="sum @8 21600 0"></v:f><v:f eqn="prod @7 21600 pixelHeight"></v:f><v:f eqn="sum @10 21600 0"></v:f></v:formulas><v:path o:extrusionok="f" gradientshapeok="t" o:connecttype="rect"></v:path><?xml:namespace prefix = o ns = "urn:schemas-microsoft-com:office:office" /><o:lock v:ext="edit" aspectratio="t"></o:lock></v:shapetype><v:shape id=_x0000_s1026 style="MARGIN-TOP: 73pt\; Z-INDEX: 1\; MARGIN-LEFT: -6pt\; WIDTH: 101.9pt\; POSITION: absolute\; HEIGHT: 153.15pt\; mso-position-horizontal-relative: margin\; mso-position-vertical-relative: margin" type="#_x0000_t75"><v:imagedata src="file:///C:\\DOCUME~1\\DEBBY~1.NSA\\LOCALS~1\\Temp\\msohtml1\\01\\clip_image001.jpg" o:title="IMG_0665small"></v:imagedata><?xml:namespace prefix = w ns = "urn:schemas-microsoft-com:office:word" /><w:wrap type="square" anchorx="margin" anchory="margin"></w:wrap></v:shape></P><DIV class=Section1><P class=MsoNormal style="MARGIN: 0in 0in 0pt"><v:shapetype id=_x0000_t75 coordsize="21600\,21600" o:spt="75" o:preferrelative="t" path="m@4@5l@4@11@9@11@9@5xe" filled="f" stroked="f"><v:stroke joinstyle="miter"></v:stroke><v:formulas><v:f eqn="if lineDrawn pixelLineWidth 0"></v:f><v:f eqn="sum @0 1 0"></v:f><v:f eqn="sum 0 0 @1"></v:f><v:f eqn="prod @2 1 2"></v:f><v:f eqn="prod @3 21600 pixelWidth"></v:f><v:f eqn="prod @3 21600 pixelHeight"></v:f><v:f eqn="sum @0 0 1"></v:f><v:f eqn="prod @6 1 2"></v:f><v:f eqn="prod @7 21600 pixelWidth"></v:f><v:f eqn="sum @8 21600 0"></v:f><v:f eqn="prod @7 21600 pixelHeight"></v:f><v:f eqn="sum @10 21600 0"></v:f></v:formulas><v:path o:extrusionok="f" gradientshapeok="t" o:connecttype="rect"></v:path><o:lock v:ext="edit" aspectratio="t"></o:lock></v:shapetype><v:shape id=_x0000_s1026 style="MARGIN-TOP: 73pt\; Z-INDEX: 1\; MARGIN-LEFT: -6pt\; WIDTH: 101.9pt\; POSITION: absolute\; HEIGHT: 153.15pt\; mso-position-horizontal-relative: margin\; mso-position-vertical-relative: margin" type="#_x0000_t75"><v:imagedata src="file:///C:\\DOCUME~1\\DEBBY~1.NSA\\LOCALS~1\\Temp\\msohtml1\\01\\clip_image001.jpg" o:title="IMG_0665small"></v:imagedata><w:wrap type="square" anchorx="margin" anchory="margin"></w:wrap></v:shape><FONT color=#000000><B style="mso-bidi-font-weight: normal"><SPAN style="FONT-SIZE: 12pt\; FONT-FAMILY: 'Times New Roman'">Tom Patterson</SPAN></B><SPAN style="FONT-SIZE: 12pt\; FONT-FAMILY: 'Times New Roman'"> founded Command Information in 2005\, raising money from the Carlyle Group and acquiring 3 companies\, to form the largest and fastest growing IPv6 solutions company in </SPAN><?xml:namespace prefix = st1 ns = "urn:schemas-microsoft-com:office:smarttags" /><st1:country-region><st1:place><SPAN style="FONT-SIZE: 12pt\; FONT-FAMILY: 'Times New Roman'">America</SPAN></st1:place></st1:country-region><SPAN style="FONT-SIZE: 12pt\; FONT-FAMILY: 'Times New Roman'">\, with over $50 million dollars of revenue and over 350 employees.<SPAN style="mso-spacerun: yes">&nbsp\; </SPAN>Under Tom’s leadership\, Command provides next-generation services and solutions to the Fortune 500 and Federal\, State\, and local governments.<SPAN style="mso-spacerun: yes">&nbsp\;&nbsp\; </SPAN>In 2004\, Tom founded the IPv6 Business Council as an IETF working group under their v6 task force\, and published a critically acclaimed book\, <I style="mso-bidi-font-style: normal"><U>Mapping Security</U></I>\, on information security\, privacy and governance around the world.<o:p></o:p></SPAN></FONT></P><P class=MsoNormal style="MARGIN: 0in 0in 0pt"><SPAN style="FONT-SIZE: 12pt\; FONT-FAMILY: 'Times New Roman'"><o:p><FONT color=#000000>&nbsp\;</FONT></o:p></SPAN></P><P class=MsoNormal style="MARGIN: 0in 0in 0pt"><FONT color=#000000><SPAN style="FONT-SIZE: 12pt\; FONT-FAMILY: 'Times New Roman'">Tom has been the partner in charge of security services for Deloitte in </SPAN><st1:place><SPAN style="FONT-SIZE: 12pt\; FONT-FAMILY: 'Times New Roman'">Europe</SPAN></st1:place><SPAN style="FONT-SIZE: 12pt\; FONT-FAMILY: 'Times New Roman'">\, the </SPAN><st1:place><SPAN style="FONT-SIZE: 12pt\; FONT-FAMILY: 'Times New Roman'">Middle East</SPAN></st1:place><SPAN style="FONT-SIZE: 12pt\; FONT-FAMILY: 'Times New Roman'"> and </SPAN><st1:place><SPAN style="FONT-SIZE: 12pt\; FONT-FAMILY: 'Times New Roman'">Africa</SPAN></st1:place><SPAN style="FONT-SIZE: 12pt\; FONT-FAMILY: 'Times New Roman'">\; the founding managing director of BearingPoint’s global managed services business\; and IBM's chief strategist for electronic commerce. He has served as a board member for several public companies\, has advised all three branches of the U.S. Government on Internet and security policy\, and is a trusted advisor to company executives across the globe.<o:p></o:p></SPAN></FONT></P><P class=MsoNormal style="MARGIN: 0in 0in 0pt"><SPAN style="FONT-SIZE: 12pt\; FONT-FAMILY: 'Times New Roman'"><o:p><FONT color=#000000>&nbsp\;</FONT></o:p></SPAN></P><P class=MsoNormal style="MARGIN: 0in 0in 0pt"><FONT color=#000000><SPAN style="FONT-SIZE: 12pt\; FONT-FAMILY: 'Times New Roman'">Tom received his Bachelor of Science in Information Systems Management from the </SPAN><st1:place><st1:PlaceType><SPAN style="FONT-SIZE: 12pt\; FONT-FAMILY: 'Times New Roman'">University</SPAN></st1:PlaceType><SPAN style="FONT-SIZE: 12pt\; FONT-FAMILY: 'Times New Roman'"> of </SPAN><st1:PlaceName><SPAN style="FONT-SIZE: 12pt\; FONT-FAMILY: 'Times New Roman'">Maryland</SPAN></st1:PlaceName></st1:place><SPAN style="FONT-SIZE: 12pt\; FONT-FAMILY: 'Times New Roman'">\, and is a periodic lecturer at the </SPAN><st1:place><st1:PlaceType><SPAN style="FONT-SIZE: 12pt\; FONT-FAMILY: 'Times New Roman'">University</SPAN></st1:PlaceType><SPAN style="FONT-SIZE: 12pt\; FONT-FAMILY: 'Times New Roman'"> of </SPAN><st1:PlaceName><SPAN style="FONT-SIZE: 12pt\; FONT-FAMILY: 'Times New Roman'">Pennsylvania</SPAN></st1:PlaceName></st1:place><SPAN style="FONT-SIZE: 12pt\; FONT-FAMILY: 'Times New Roman'">’s </SPAN><st1:place><st1:PlaceName><SPAN style="FONT-SIZE: 12pt\; FONT-FAMILY: 'Times New Roman'">Wharton</SPAN></st1:PlaceName><SPAN style="FONT-SIZE: 12pt\; FONT-FAMILY: 'Times New Roman'"> </SPAN><st1:PlaceType><SPAN style="FONT-SIZE: 12pt\; FONT-FAMILY: 'Times New Roman'">School</SPAN></st1:PlaceType></st1:place><SPAN style="FONT-SIZE: 12pt\; FONT-FAMILY: 'Times New Roman'">\, and the </SPAN><st1:place><st1:PlaceType><SPAN style="FONT-SIZE: 12pt\; FONT-FAMILY: 'Times New Roman'">University</SPAN></st1:PlaceType><SPAN style="FONT-SIZE: 12pt\; FONT-FAMILY: 'Times New Roman'"> of </SPAN><st1:PlaceName><SPAN style="FONT-SIZE: 12pt\; FONT-FAMILY: 'Times New Roman'">Virginia</SPAN></st1:PlaceName></st1:place><SPAN style="FONT-SIZE: 12pt\; FONT-FAMILY: 'Times New Roman'">’s </SPAN><st1:place><st1:PlaceName><SPAN style="FONT-SIZE: 12pt\; FONT-FAMILY: 'Times New Roman'">Darden</SPAN></st1:PlaceName><SPAN style="FONT-SIZE: 12pt\; FONT-FAMILY: 'Times New Roman'"> </SPAN><st1:PlaceType><SPAN style="FONT-SIZE: 12pt\; FONT-FAMILY: 'Times New Roman'">School</SPAN></st1:PlaceType></st1:place><SPAN style="FONT-SIZE: 12pt\; FONT-FAMILY: 'Times New Roman'">.<o:p></o:p></SPAN></FONT></P></DIV><P class=MsoNormal style="MARGIN: 0in 0in 0pt"><SPAN style="FONT-SIZE: 12pt\; FONT-FAMILY: 'Times New Roman'\; mso-fareast-font-family: 'Times New Roman'\; mso-ansi-language: EN-US\; mso-fareast-language: EN-US\; mso-bidi-language: AR-SA"><BR style="PAGE-BREAK-BEFORE: always\; mso-break-type: section-break" clear=all></SPAN>&nbsp\;</P><P class=MsoNormal style="MARGIN: 0in 0in 0pt"><SPAN style="FONT-SIZE: 12pt\; FONT-FAMILY: 'Times New Roman'"><o:p><FONT color=#000000>&nbsp\;</FONT></o:p></SPAN></P></SPAN></FONT>
LOCATION:The Petroleum Club
UID:e.2020.393
SEQUENCE:3
DTSTAMP:20260426T022944Z
URL:https://cm-dev.metrosa.com/events/details/2007-september-cio-breakfast-09-27-2007-393
END:VEVENT

END:VCALENDAR
