BEGIN:VCALENDAR
VERSION:2.0
PRODID:-//ChamberMaster//Event Calendar 2.0//EN
METHOD:PUBLISH
X-PUBLISHED-TTL:P3D
REFRESH-INTERVAL:P3D
CALSCALE:GREGORIAN
BEGIN:VEVENT
DTSTART:20070926T050000Z
DTEND:20070926T050000Z
X-MICROSOFT-CDO-ALLDAYEVENT:FALSE
SUMMARY:2007 September New Member Orientation CANCELLED
DESCRIPTION:2007 September New Member Orientation CANCELLED
X-ALT-DESC;FMTTYPE=text/html:2007 September New Member Orientation CANCELLED
LOCATION:North Chamber Boardroom
UID:e.2020.3507
SEQUENCE:3
DTSTAMP:20260426T022551Z
URL:https://cm-dev.metrosa.com/events/details/2007-september-new-member-orientation-cancelled-09-26-2007-3507
END:VEVENT

END:VCALENDAR
