BEGIN:VCALENDAR
VERSION:2.0
PRODID:-//ChamberMaster//Event Calendar 2.0//EN
METHOD:PUBLISH
X-PUBLISHED-TTL:P3D
REFRESH-INTERVAL:P3D
CALSCALE:GREGORIAN
BEGIN:VEVENT
DTSTART:20080417T163000Z
DTEND:20080417T180000Z
X-MICROSOFT-CDO-ALLDAYEVENT:FALSE
SUMMARY:2008 April Ambassador Lunch Meeting
DESCRIPTION:FAJITA BUFFET - Creamy Spinach Enchiladas\, Chicken & Beef Fajitas\, Mexican Style Ranchero Beans\, Spanish Style Rice\, Guacamole & Pico De Gallo\, Homemade Flour & Corn Tortillas\, Crispy Tortilla Chips with choice of Green Tomatillo Salsa and their signature Red Salsa.
X-ALT-DESC;FMTTYPE=text/html:FAJITA BUFFET - Creamy Spinach Enchiladas\, Chicken &amp\; Beef Fajitas\, Mexican Style Ranchero Beans\, Spanish Style Rice\, Guacamole &amp\; Pico De Gallo\, Homemade Flour &amp\; Corn Tortillas\, Crispy Tortilla Chips with choice of Green Tomatillo Salsa and their signature Red Salsa.
LOCATION:Amorcitos Mexican Cocina y Cantina
UID:e.2020.489
SEQUENCE:3
DTSTAMP:20260425T174343Z
URL:https://cm-dev.metrosa.com/events/details/2008-april-ambassador-lunch-meeting-04-17-2008-489
END:VEVENT

END:VCALENDAR
