BEGIN:VCALENDAR
VERSION:2.0
PRODID:-//ChamberMaster//Event Calendar 2.0//EN
METHOD:PUBLISH
X-PUBLISHED-TTL:P3D
REFRESH-INTERVAL:P3D
CALSCALE:GREGORIAN
BEGIN:VEVENT
DTSTART:20080410T210000Z
DTEND:20080411T000000Z
X-MICROSOFT-CDO-ALLDAYEVENT:FALSE
SUMMARY:2008 April GRAND OPENING @ J.M. Waller Associates\, Inc.
DESCRIPTION:J.M. WALLER ASSOCIATES\, INC\n85 NE Loop 410\, Suite 500\, 78216\nThe Atrium Building\nThursday April 10\, 2008\nRIBBON CUTTING @ 4:00 p.m. Event is 4:00 - 7:00 p.m.\nCONTACT: Yvonne J. Hamilton @ 822-8006 ext 2021\nCHAMBER CONTACT: Samantha Collins @ 384-7726\nDIRECTIONS: Travel 410 West exit for San Pedro. Building is between the Holiday Inn Express and the Holiday Inn Select Hotels
X-ALT-DESC;FMTTYPE=text/html:J.M. WALLER ASSOCIATES\, INC\n85 NE Loop 410\, Suite 500\, 78216\nThe Atrium Building\nThursday April 10\, 2008\nRIBBON CUTTING @ 4:00 p.m. Event is 4:00 - 7:00 p.m.\nCONTACT: Yvonne J. Hamilton @ 822-8006 ext 2021\nCHAMBER CONTACT: Samantha Collins @ 384-7726\nDIRECTIONS: Travel 410 West exit for San Pedro. Building is between the Holiday Inn Express and the Holiday Inn Select Hotels
LOCATION:JM Waller Associates Inc
UID:e.2020.486
SEQUENCE:3
DTSTAMP:20260425T174501Z
URL:https://cm-dev.metrosa.com/events/details/2008-april-grand-opening-j-m-waller-associates-inc-04-10-2008-486
END:VEVENT

END:VCALENDAR
