BEGIN:VCALENDAR
VERSION:2.0
PRODID:-//ChamberMaster//Event Calendar 2.0//EN
METHOD:PUBLISH
X-PUBLISHED-TTL:P3D
REFRESH-INTERVAL:P3D
CALSCALE:GREGORIAN
BEGIN:VEVENT
DTSTART:20080416T150000Z
DTEND:20080416T160000Z
X-MICROSOFT-CDO-ALLDAYEVENT:FALSE
SUMMARY:2008 April GROUND BREAKING@ Promenade Hotel
DESCRIPTION:PROMENADE HOTEL 	\n6809 N Loop 1604 West\, 78249\nWednesday\, April 16\, 2008\nGround Breaking Ceremony @ 10:00 a.m. Event is 10:00 - 11:00 a.m.\nCONTACT: Rachel Campos\, Galo Properties @ 497.3385 \nCHAMBER CONTACT: Samantha Collins @ 384-7726 and Chuck Koonse @ 384-7722\nDIRECTIONS: The site is located at 1604 West and Chase Hill. It will be right off the access road on the right\; next door to the Whataburger. \nGalo Properties\, an aggressive real estate development company based in San Antonio\, Texas prides itself on locating prime real estate and maximizing land potential. Acquiring optimum land position is achieved with an experienced\, professional and diligent team. Our staff associates itself with the best and most qualified consultants in executing architectural plans\, legal documents and engineering services. The result is exceptional\, eco-minded communities.\nThe recently completed La Arcata project\, located on Loop 1604 West in San Antonio’s Stone Oak area is 36 acres of mixed-use land and is strategically located in the fastest growing portion of northwest San Antonio now home to Galo Properties headquarters.
X-ALT-DESC;FMTTYPE=text/html:PROMENADE HOTEL 	\n6809 N Loop 1604 West\, 78249\nWednesday\, April 16\, 2008\nGround Breaking Ceremony @ 10:00 a.m. Event is 10:00 - 11:00 a.m.\nCONTACT: Rachel Campos\, Galo Properties @ 497.3385 \nCHAMBER CONTACT: Samantha Collins @ 384-7726 and Chuck Koonse @ 384-7722\nDIRECTIONS: The site is located at 1604 West and Chase Hill. It will be right off the access road on the right\; next door to the Whataburger. \nGalo Properties\, an aggressive real estate development company based in San Antonio\, Texas prides itself on locating prime real estate and maximizing land potential. Acquiring optimum land position is achieved with an experienced\, professional and diligent team. Our staff associates itself with the best and most qualified consultants in executing architectural plans\, legal documents and engineering services. The result is exceptional\, eco-minded communities.\nThe recently completed La Arcata project\, located on Loop 1604 West in San Antonio’s Stone Oak area is 36 acres of mixed-use land and is strategically located in the fastest growing portion of northwest San Antonio now home to Galo Properties headquarters.\n
LOCATION:Promenade Hotel
UID:e.2020.497
SEQUENCE:3
DTSTAMP:20260425T174338Z
URL:https://cm-dev.metrosa.com/events/details/2008-april-ground-breaking-promenade-hotel-04-16-2008-497
END:VEVENT

END:VCALENDAR
