BEGIN:VCALENDAR
VERSION:2.0
PRODID:-//ChamberMaster//Event Calendar 2.0//EN
METHOD:PUBLISH
X-PUBLISHED-TTL:P3D
REFRESH-INTERVAL:P3D
CALSCALE:GREGORIAN
BEGIN:VEVENT
DTSTART:20080430T213000Z
DTEND:20080430T233000Z
X-MICROSOFT-CDO-ALLDAYEVENT:FALSE
SUMMARY:2008 April Ribbon Cutting @ Amegy Bank of Texas
DESCRIPTION:AMEGY BANK OF TEXASMedical Center Banking Center8525 Wurzbach Road\, 78240Wednesday\, April 30\, 2008RIBBON CUTTING @ 4:30 p.m. Event will be 4:30 - 6:30 p.m.CONTACT: Jill Dietz @ 343-4410CHAMBER CONTACT: Samantha Collins @ 384-7726DIRECTIONS: http://www.amegybank.comFood and Refreshments will be served. Amegy Bank has chosen the following Charitable Organizations to participate:*Bexar County Medical Society - Dr. Manuel Quinones\; President will be on hand to represent BCMS *San Antonio Medical Group Management Association – Kyle Buster with Baptist Health Systems will represent SAMGMA *Respite Care of San Antonio – Bert Pfiester\; Executive Director of Respite Care *San Antonio Medical Foundation – Jim Reed\; President of SA Medical Foundation *Greater San Antonio Hospital Council – Bill Rasco\; President/CEO of GSAHC Amegy Bank is one of the fastest growing banks in Texas. With a branch located in the Texas Medical Center and more than 85 banking centers statewide\, our experienced health care Private Bankers offer practice loans with real advice and competitive pricing\, depository solutions for health care practices and businesses of all types and sizes\, and our Treasury management solutions are recognized as tops in the state with a HIPPA compliant lockbox. Amegy's Private Banking team also provides personalized banking solutions for physicians and health care professionals\, including personal loans and mortgages\, trust services and investment planning. For more information on Amegy Bank\, visit www.amegybank.com or call 210-343-4464.
X-ALT-DESC;FMTTYPE=text/html:<P>AMEGY BANK OF TEXAS</P><P>Medical Center Banking Center</P><P>8525 Wurzbach Road\, 78240</P><P>Wednesday\, April 30\, 2008</P><P>RIBBON CUTTING @ 4:30 p.m. Event will be 4:30 - 6:30 p.m.</P><P>CONTACT: Jill Dietz @ 343-4410</P><P>CHAMBER CONTACT: Samantha Collins @ 384-7726</P><P>DIRECTIONS: <A href="http://www.amegybank.com">http://www.amegybank.com</A></P><P>Food and Refreshments will be served. </P><P>Amegy Bank has chosen the following Charitable Organizations to participate:</P><P>*Bexar County Medical Society - Dr. Manuel Quinones\; President will be on hand to represent BCMS</P><P>&nbsp\;*San Antonio Medical Group Management Association – Kyle Buster with Baptist Health Systems will represent SAMGMA </P><P>*Respite Care of San Antonio – Bert Pfiester\; Executive Director of Respite Care</P><P>&nbsp\;*San Antonio Medical Foundation – Jim Reed\; President of SA Medical Foundation</P><P>&nbsp\;*Greater San Antonio Hospital Council – Bill Rasco\; President/CEO of GSAHC </P><P>Amegy Bank is one of the fastest growing banks in Texas. With a branch located in the Texas Medical Center and more than 85 banking centers statewide\, our experienced health care Private Bankers offer practice loans with real advice and competitive pricing\, depository solutions for health care practices and businesses of all types and sizes\, and our Treasury management solutions are recognized as tops in the state with a HIPPA compliant lockbox. Amegy's Private Banking team also provides personalized banking solutions for physicians and health care professionals\, including personal loans and mortgages\, trust services and investment planning. For more information on Amegy Bank\, visit www.amegybank.com or call 210-343-4464.</P>
LOCATION:Amegy Bank of Texas
UID:e.2020.503
SEQUENCE:3
DTSTAMP:20260425T174506Z
URL:https://cm-dev.metrosa.com/events/details/2008-april-ribbon-cutting-amegy-bank-of-texas-04-30-2008-503
END:VEVENT

END:VCALENDAR
