BEGIN:VCALENDAR
VERSION:2.0
PRODID:-//ChamberMaster//Event Calendar 2.0//EN
METHOD:PUBLISH
X-PUBLISHED-TTL:P3D
REFRESH-INTERVAL:P3D
CALSCALE:GREGORIAN
BEGIN:VEVENT
DTSTART:20080429T210000Z
DTEND:20080429T230000Z
X-MICROSOFT-CDO-ALLDAYEVENT:FALSE
SUMMARY:2008 April Ribbon Cutting/Open House @ Catapult Systems
DESCRIPTION:CATAPULT SYSTEMSPacific Plaza Building14100 San Pedro\, Suite 200 - 78232Tuesday April 29\, 2008RIBBON CUTTING @ 5:00 p.m. Open House will be 4:00 - 6:00 pmCONTACT: Deborah Hadley @ (210) 249-5400 CHAMBER CONTACT: Samantha Collins @ 384-7726DIRECTIONS: www.catapultsystems.comThere will be cocktails and appetizers.Catapult Systems is a Microsoft technology consulting company that provides application development\, enterprise solutions and infrastructure services. Their experienced teams use a proven approach and a personal relationship style to deliver the right solutions for their clients. They are a Microsoft National Systems Integrator (NSI)\, and have been building business-critical systems and helping their clients maximize their investment in Microsoft technology since 1993.
X-ALT-DESC;FMTTYPE=text/html:<P>CATAPULT SYSTEMS</P><P>Pacific Plaza Building</P><P>14100 San Pedro\, Suite 200 - 78232</P><P>Tuesday April 29\, 2008</P><P>RIBBON CUTTING @ 5:00 p.m. Open House will be 4:00 - 6:00 pm</P><P>CONTACT: Deborah Hadley @ (210) 249-5400 </P><P>CHAMBER CONTACT: Samantha Collins @ 384-7726</P><P>DIRECTIONS: <A href="http://www.catapultsystems.com">www.catapultsystems.com</A></P><P>There will be cocktails and appetizers.</P><P class=MsoNormal style="MARGIN: 0in 0in 0pt"><SPAN style="FONT-WEIGHT: normal\; FONT-SIZE: 12pt">Catapult Systems is a Microsoft technology consulting company that provides application development\, enterprise solutions&nbsp\;and infrastructure services. Their experienced teams use a proven approach and a personal relationship style to deliver the right solutions for their clients.<?xml:namespace prefix = o ns = "urn:schemas-microsoft-com:office:office" /><o:p></o:p></SPAN></P><P class=MsoNormal style="MARGIN: 0in 0in 0pt"><SPAN style="FONT-WEIGHT: normal\; FONT-SIZE: 12pt"><o:p>&nbsp\;</o:p></SPAN></P><P class=MsoNormal style="MARGIN: 0in 0in 0pt"><SPAN style="FONT-WEIGHT: normal\; FONT-SIZE: 12pt">They are a Microsoft National Systems Integrator (</SPAN><?xml:namespace prefix = st1 ns = "urn:schemas-microsoft-com:office:smarttags" /><st1:stockticker><SPAN style="FONT-WEIGHT: normal\; FONT-SIZE: 12pt">NSI</SPAN></st1:stockticker><SPAN style="FONT-WEIGHT: normal\; FONT-SIZE: 12pt">)\, and have been building business-critical systems and helping their clients maximize their investment in Microsoft technology since 1993.<o:p></o:p></SPAN></P><P>&nbsp\;</P>
LOCATION:Catapult Systems
UID:e.2020.495
SEQUENCE:3
DTSTAMP:20260425T174337Z
URL:https://cm-dev.metrosa.com/events/details/2008-april-ribbon-cutting-open-house-catapult-systems-04-29-2008-495
END:VEVENT

END:VCALENDAR
