BEGIN:VCALENDAR
VERSION:2.0
PRODID:-//ChamberMaster//Event Calendar 2.0//EN
METHOD:PUBLISH
X-PUBLISHED-TTL:P3D
REFRESH-INTERVAL:P3D
CALSCALE:GREGORIAN
BEGIN:VEVENT
DTSTART:20080424T220000Z
DTEND:20080425T000000Z
X-MICROSOFT-CDO-ALLDAYEVENT:FALSE
SUMMARY:2008 April Ribbon Cutting/Open House @ Fintan Technologies
DESCRIPTION:FINTAN TECHNOLOGIES\, LLCThursday April 24\, 2008 2929 Mossrock\, Suite 205 - 78230RIBBON CUTTING @ 5:00 p.m. Open House 5 - 7 p.m. CONTACT: Ricci Fitzpatrick @ 495-3600........RSVP to ricci@fintantech.comCHAMBER CONTACT: Samantha Collins @ 384-7726DIRECTIONS: Traveling west on Loop 410 exit Vance Jackson/Cherry Ridge. Stay on access road turn right on to Vance Jackson. Travel forward and turn left on to Mossrock.Fintan Technologies is in the business of helping businesses grow through implementing the right technology solutions for our clients. They offer a range of technology support services that exactly fit your business needs. They can troubleshoot a computer malfunction\, design and roll-out a new network\, advise you on hardware\, software\, and Internet connectivity\, provide Disaster Recovery\; manage your servers and networks and help move your network to a new location. Fntan Technologies is your Information Technology Department. They can and will handle every aspect of mission critical technology that your company needs. With resources available throughout Texas\, no job is too small or too large\; they can install and support one computer or thousands. Fintan Technologies provides effective and efficient business plans by working with...and for...your company. They want to help you succeed and grow!
X-ALT-DESC;FMTTYPE=text/html:<P>FINTAN TECHNOLOGIES\, LLC</P><P>Thursday April 24\, 2008 </P><P>2929 Mossrock\, Suite 205 - 78230</P><P>RIBBON CUTTING @ 5:00 p.m. Open House 5 - 7 p.m. </P><P>CONTACT: Ricci Fitzpatrick @ 495-3600........RSVP to <A href="mailto:ricci@fintantech.com">ricci@fintantech.com</A></P><P>CHAMBER CONTACT: Samantha Collins @ 384-7726</P><P>DIRECTIONS: Traveling west on Loop 410 exit Vance Jackson/Cherry Ridge. Stay on access road turn right on to Vance Jackson. Travel forward and turn left on to Mossrock.</P><P>Fintan Technologies is in the business of helping businesses grow through implementing the right technology solutions for our clients. They offer a range of technology support services that exactly fit your business needs. They can troubleshoot a computer malfunction\, design and roll-out a new network\, advise you on hardware\, software\, and Internet connectivity\, provide Disaster Recovery\; manage your servers and networks and help move your network to a new location. Fntan Technologies is your Information Technology Department. They can and will handle every aspect of mission critical technology that your company needs. With resources available throughout Texas\, no job is too small or too large\; they can install and support one computer or thousands. Fintan Technologies provides effective and efficient business plans by working with...and for...your company. They want to help you succeed and grow!</P>
LOCATION:Fintan Technologies LLC
UID:e.2020.501
SEQUENCE:3
DTSTAMP:20260425T174435Z
URL:https://cm-dev.metrosa.com/events/details/2008-april-ribbon-cutting-open-house-fintan-technologies-04-24-2008-501
END:VEVENT

END:VCALENDAR
