BEGIN:VCALENDAR
VERSION:2.0
PRODID:-//ChamberMaster//Event Calendar 2.0//EN
METHOD:PUBLISH
X-PUBLISHED-TTL:P3D
REFRESH-INTERVAL:P3D
CALSCALE:GREGORIAN
BEGIN:VEVENT
DTSTART:20080821T163000Z
DTEND:20080821T180000Z
X-MICROSOFT-CDO-ALLDAYEVENT:FALSE
SUMMARY:2008 AUGUST Ambassador Lunch Meeting
DESCRIPTION:MENU 1: Pollo Cilantro: Grilled chicken breast with creamy cilantro sauce served with rice & beans. MENU 2: Pollo Chipotle: Grilled chicken breast with zesty chipotle served with rice & beans. DESSERT: Pastel Tres LechesAPPPETIZER: Tostadas y Salsa DRINKS: Sweet and Unsweetened Tea and Ice Water
X-ALT-DESC;FMTTYPE=text/html:<P>MENU 1: Pollo Cilantro: Grilled chicken breast with creamy cilantro sauce served with rice &amp\; beans. </P><P>MENU 2: Pollo Chipotle: Grilled chicken breast with zesty chipotle served with rice &amp\; beans. </P><P>DESSERT: Pastel Tres Leches</P><P>APPPETIZER: Tostadas y Salsa </P><P>DRINKS: Sweet and Unsweetened Tea and Ice Water</P>
LOCATION:Aldaco's Mexican Restaurant/Stone Oak
UID:e.2020.522
SEQUENCE:3
DTSTAMP:20260425T122928Z
URL:https://cm-dev.metrosa.com/events/details/2008-august-ambassador-lunch-meeting-08-21-2008-522
END:VEVENT

END:VCALENDAR
