BEGIN:VCALENDAR
VERSION:2.0
PRODID:-//ChamberMaster//Event Calendar 2.0//EN
METHOD:PUBLISH
X-PUBLISHED-TTL:P3D
REFRESH-INTERVAL:P3D
CALSCALE:GREGORIAN
BEGIN:VEVENT
DTSTART:20080828T121500Z
DTEND:20080828T140000Z
X-MICROSOFT-CDO-ALLDAYEVENT:FALSE
SUMMARY:2008 August CIO Breakfast
DESCRIPTION:Note:  If you are not currently subscribed to CIO Breakfast information\, please contact Debby Zucker before registering - 210.344.4848.  Thank youDave Lytle\, Director of Network/Telecom Services\, will review the background\, actual events\, and the recovery from the devastating fire in the Main Building at Our Lady of the Lake University\, May 6\, 2008.   Complete IT operations were located in the building\, so this event presents a close-to-home learning experience for IT managers.  Mr. Lytle hopes to engage the attendees in an analysis of what worked and what might have been done differently.  He will also share some issues not previously considered that may help others in their own business continuity planning.
X-ALT-DESC;FMTTYPE=text/html:<P><EM><FONT face=Arial color=#ff0000 size=2>Note:&nbsp\; If you are not currently subscribed to CIO Breakfast information\, please contact Debby Zucker before registering - 210.344.4848.&nbsp\; Thank you</FONT></EM></P><EM><FONT face=Arial color=#ff0000 size=2><FONT color=#0f0f0f size=3><P class=MsoNormal><FONT face="Times New Roman" size=3><SPAN style="FONT-SIZE: 12pt">Dave Lytle\, Director of Network/Telecom Services\, will review the background\, actual events\, and the recovery from the devastating fire in the <?xml:namespace prefix = st1 ns = "urn:schemas-microsoft-com:office:smarttags" /><st1:PlaceName w:st="on">Main</st1:PlaceName> <st1:PlaceType w:st="on">Building</st1:PlaceType> at Our Lady of the <st1:place w:st="on"><st1:PlaceType w:st="on">Lake</st1:PlaceType> <st1:PlaceType w:st="on">University</st1:PlaceType></st1:place>\, May 6\, 2008.&nbsp\;&nbsp\; Complete IT operations were located in the building\, so this event presents a close-to-home learning experience for IT managers.&nbsp\; Mr. Lytle hopes to engage the attendees in an analysis of what worked and what might have been done differently.&nbsp\; He will also share some issues not previously considered that may help others in their own business continuity planning. <?xml:namespace prefix = o ns = "urn:schemas-microsoft-com:office:office" /><o:p></o:p></SPAN></FONT></P></FONT></FONT></EM>
LOCATION:The Petroleum Club
UID:e.2020.517
SEQUENCE:3
DTSTAMP:20260425T122816Z
URL:https://cm-dev.metrosa.com/events/details/2008-august-cio-breakfast-08-28-2008-517
END:VEVENT

END:VCALENDAR
