BEGIN:VCALENDAR
VERSION:2.0
PRODID:-//ChamberMaster//Event Calendar 2.0//EN
METHOD:PUBLISH
X-PUBLISHED-TTL:P3D
REFRESH-INTERVAL:P3D
CALSCALE:GREGORIAN
BEGIN:VEVENT
DTSTART:20080814T230000Z
DTEND:20080815T010000Z
X-MICROSOFT-CDO-ALLDAYEVENT:FALSE
SUMMARY:2008 AUGUST Grand Opening @ Miss Behavin dba Dahlia's Boutiq
DESCRIPTION:MIS BEHAVIN\, LLC dba DAHLIA'S BOUTIQUE7959 Broadway\, Suite 200 - 78209Thursday August 14\, 2008RIBBON CUTTING @ 6:00 P.M.CONTACT: Luvlynn McAllister @ 930-0050 or Cell (512) 762-0035CHAMBER CONTACT: Samantha Collins @ 384-7726DIRECTIONS: South on 281 exit at Sunset Road go straight and turn left at West Sunset Road then right on Broadway.
X-ALT-DESC;FMTTYPE=text/html:<P>MIS BEHAVIN\, LLC dba DAHLIA'S BOUTIQUE</P><P>7959 Broadway\, Suite 200 - 78209</P><P>Thursday August 14\, 2008</P><P>RIBBON CUTTING @ 6:00 P.M.</P><P>CONTACT: Luvlynn McAllister @ 930-0050 or Cell (512) 762-0035</P><P>CHAMBER CONTACT: Samantha Collins @ 384-7726</P><P>DIRECTIONS: South on 281 exit at Sunset Road go straight and turn left at West Sunset Road then right on Broadway. </P>
LOCATION:Miss Behavin dba Dahlia's Boutique
UID:e.2020.521
SEQUENCE:3
DTSTAMP:20260425T123118Z
URL:https://cm-dev.metrosa.com/events/details/2008-august-grand-opening-miss-behavin-dba-dahlia-s-boutiq-08-14-2008-521
END:VEVENT

END:VCALENDAR
