BEGIN:VCALENDAR
VERSION:2.0
PRODID:-//ChamberMaster//Event Calendar 2.0//EN
METHOD:PUBLISH
X-PUBLISHED-TTL:P3D
REFRESH-INTERVAL:P3D
CALSCALE:GREGORIAN
BEGIN:VEVENT
DTSTART:20080807T220000Z
DTEND:20080808T000000Z
X-MICROSOFT-CDO-ALLDAYEVENT:FALSE
SUMMARY:2008 AUGUST Grand Opening @ WineStyles
DESCRIPTION:WINESTYLES/STONE OAK @ SONTERRA700 E. Sonterra Blvd\, Suite 1105\, 78258Thursday August 7\, 2008RIBBON CUTTING @ 5:00 p.m.CONTACT: Jerry Zellers @ (210) 451-0917CHAMBER CONTACT: Samantha Collins @ 384-7726DIRECTIONS: From Stone Oak turn right at traffic light on to Sonterra Blvd. Travel on Sonterra Blvd go through light at Ronald Reagan Drive and Turn into Concord Plaza Shopping Center. The store is across from the Lion & Rose Pub.Welcome to WineStyles at the Concord Plaza\; Stone Oak\; San Antonio\, Texas! We appreciate the opportunity to share with you the WineStyles concept. Our mission is to bring superb\, world-class wines to you at affordable everyday prices. We're sure you'll agree that our unique approach to offering top-quality wines at a tremendous value (most bottles cost less than $25) is the best in the business. From the moment you walk through our doors\, you'll feel like you've traveled back in time to the Old World wine cellar of your dreams. And there's no reason to feel overwhelmed: not only are the taste “styles” clearly marked\, but there is always a smiling and knowledgeable wine lover at your service to help answer any questions you may have or to suggest great gift ideas.Additionally\, don't forget to visit WineStyles for all your housewarming\, holiday and corporate gifts.
X-ALT-DESC;FMTTYPE=text/html:<P>WINESTYLES/STONE OAK @ SONTERRA</P><P>700 E. Sonterra Blvd\, Suite 1105\, 78258</P><P>Thursday August 7\, 2008</P><P>RIBBON CUTTING @ 5:00 p.m.</P><P>CONTACT: Jerry Zellers @ (210) 451-0917</P><P>CHAMBER CONTACT: Samantha Collins @ 384-7726</P><P>DIRECTIONS: From Stone Oak turn right at traffic light on to Sonterra Blvd. Travel on Sonterra Blvd go through light at Ronald Reagan Drive and Turn into Concord Plaza Shopping Center. The store is across from the Lion &amp\; Rose Pub.</P><P>Welcome to WineStyles at the Concord Plaza\; Stone Oak\; San Antonio\, Texas! We appreciate the opportunity to share with you the WineStyles concept. Our mission is to bring superb\, world-class wines to you at affordable everyday prices. We're sure you'll agree that our unique approach to offering top-quality wines at a tremendous value (most bottles cost less than $25) is the best in the business. </P><P>From the moment you walk through our doors\, you'll feel like you've traveled back in time to the Old World wine cellar of your dreams. And there's no reason to feel overwhelmed: not only are the taste “styles” clearly marked\, but there is always a smiling and knowledgeable wine lover at your service to help answer any questions you may have or to suggest great gift ideas.Additionally\, don't forget to visit WineStyles for all your housewarming\, holiday and corporate gifts.</P>
LOCATION:WineStyles/Stone Oak
UID:e.2020.520
SEQUENCE:3
DTSTAMP:20260425T122829Z
URL:https://cm-dev.metrosa.com/events/details/2008-august-grand-opening-winestyles-08-07-2008-520
END:VEVENT

END:VCALENDAR
