BEGIN:VCALENDAR
VERSION:2.0
PRODID:-//ChamberMaster//Event Calendar 2.0//EN
METHOD:PUBLISH
X-PUBLISHED-TTL:P3D
REFRESH-INTERVAL:P3D
CALSCALE:GREGORIAN
BEGIN:VEVENT
DTSTART:20080815T050000Z
DTEND:20080815T050000Z
X-MICROSOFT-CDO-ALLDAYEVENT:FALSE
SUMMARY:2008 August LLab Alumni Cosmic Bowling Event
DESCRIPTION:2008 August LLab Alumni Cosmic Bowling Event
X-ALT-DESC;FMTTYPE=text/html:2008 August LLab Alumni Cosmic Bowling Event
LOCATION:Brunswick Bowling
UID:e.2020.3711
SEQUENCE:3
DTSTAMP:20260425T122950Z
URL:https://cm-dev.metrosa.com/events/details/2008-august-llab-alumni-cosmic-bowling-event-08-15-2008-3711
END:VEVENT

END:VCALENDAR
