BEGIN:VCALENDAR
VERSION:2.0
PRODID:-//ChamberMaster//Event Calendar 2.0//EN
METHOD:PUBLISH
X-PUBLISHED-TTL:P3D
REFRESH-INTERVAL:P3D
CALSCALE:GREGORIAN
BEGIN:VEVENT
DTSTART:20080221T173000Z
DTEND:20080221T190000Z
X-MICROSOFT-CDO-ALLDAYEVENT:FALSE
SUMMARY:2008 February Ambassador Meeting
DESCRIPTION:MENU:	First Course: Cup of Roasted Tomato Soup with Goldfish Crackers\n \nSecond Course: Double Caesar with Grilled Chicken Breast\n \nLast Course: Bistro Brownies with Fresh Berries and Chantilly Cream
X-ALT-DESC;FMTTYPE=text/html:MENU:	First Course: Cup of Roasted Tomato Soup with Goldfish Crackers\n \nSecond Course: Double Caesar with Grilled Chicken Breast\n \nLast Course: Bistro Brownies with Fresh Berries and Chantilly Cream \n
LOCATION:Bistro Thyme Restaurant
UID:e.2020.475
SEQUENCE:3
DTSTAMP:20260425T201504Z
URL:https://cm-dev.metrosa.com/events/details/2008-february-ambassador-meeting-02-21-2008-475
END:VEVENT

END:VCALENDAR
