BEGIN:VCALENDAR
VERSION:2.0
PRODID:-//ChamberMaster//Event Calendar 2.0//EN
METHOD:PUBLISH
X-PUBLISHED-TTL:P3D
REFRESH-INTERVAL:P3D
CALSCALE:GREGORIAN
BEGIN:VEVENT
DTSTART:20080228T131500Z
DTEND:20080228T150000Z
X-MICROSOFT-CDO-ALLDAYEVENT:FALSE
SUMMARY:2008 February CIO Breakfast
DESCRIPTION:Facilitator: Mark Fischer\, Capital Group Companies and Chair for the CIO Breakfast SeriesTopic: Software Development Methods (Panel Discussion)We have invited Software Development Managers and Leaders from the San Antonio area to share their perspectives\, best practices and approaches to developing and delivering mission critical software applications.  You are invited to participate in this unique opportunity to hear first hand how these managers and leaders approach the process of software development. Are you moving to the Rational Unified Process? Are you considering an Agile method? Or\, have you developed your own approach?  We will keep the discussion very pragmatic and focus on time-to-market techniques. These questions and others will be discussed with our panel members
X-ALT-DESC;FMTTYPE=text/html:<FONT size=2><P>Facilitator: Mark Fischer\, Capital Group Companies and Chair for the CIO Breakfast Series</P><P>Topic: Software Development Methods (Panel Discussion)</P><P>We have invited Software Development Managers and Leaders from the San Antonio area to share their perspectives\, best practices and approaches to developing and delivering mission critical software applications.&nbsp\; You are invited to participate in this unique opportunity to hear first hand how these managers and leaders approach the process of software development. Are you moving to the Rational Unified Process? Are you considering an Agile method? Or\, have you developed your own approach?&nbsp\; We will keep the discussion very&nbsp\;pragmatic and focus on time-to-market techniques. These questions and others will be discussed with our panel members</P></FONT>
LOCATION:The Petroleum Club
UID:e.2020.453
SEQUENCE:3
DTSTAMP:20260425T201337Z
URL:https://cm-dev.metrosa.com/events/details/2008-february-cio-breakfast-02-28-2008-453
END:VEVENT

END:VCALENDAR
